BEGIN:VCALENDAR
VERSION:2.0
PRODID:-//Williamson, Inc. - ECPv6.15.18//NONSGML v1.0//EN
CALSCALE:GREGORIAN
METHOD:PUBLISH
X-ORIGINAL-URL:https://williamsonchamber.com
X-WR-CALDESC:Events for Williamson, Inc.
REFRESH-INTERVAL;VALUE=DURATION:PT1H
X-Robots-Tag:noindex
X-PUBLISHED-TTL:PT1H
BEGIN:VTIMEZONE
TZID:America/Chicago
BEGIN:DAYLIGHT
TZOFFSETFROM:-0600
TZOFFSETTO:-0500
TZNAME:CDT
DTSTART:20240310T080000
END:DAYLIGHT
BEGIN:STANDARD
TZOFFSETFROM:-0500
TZOFFSETTO:-0600
TZNAME:CST
DTSTART:20241103T070000
END:STANDARD
BEGIN:DAYLIGHT
TZOFFSETFROM:-0600
TZOFFSETTO:-0500
TZNAME:CDT
DTSTART:20250309T080000
END:DAYLIGHT
BEGIN:STANDARD
TZOFFSETFROM:-0500
TZOFFSETTO:-0600
TZNAME:CST
DTSTART:20251102T070000
END:STANDARD
BEGIN:DAYLIGHT
TZOFFSETFROM:-0600
TZOFFSETTO:-0500
TZNAME:CDT
DTSTART:20260308T080000
END:DAYLIGHT
BEGIN:STANDARD
TZOFFSETFROM:-0500
TZOFFSETTO:-0600
TZNAME:CST
DTSTART:20261101T070000
END:STANDARD
END:VTIMEZONE
BEGIN:VEVENT
DTSTART;TZID=America/Chicago:20251024T080000
DTEND;TZID=America/Chicago:20251231T170000
DTSTAMP:20260425T102219
CREATED:20251028T174505Z
LAST-MODIFIED:20251028T174505Z
UID:10003506-1761292800-1767200400@williamsonchamber.com
SUMMARY:McEwen Northside Apartments
DESCRIPTION:Fall Move-in SPECIALS!!\nCall today to schedule your tour.\n615.567.6004
URL:https://williamsonchamber.com/member-event/mcewen-northside-apartments/
LOCATION:TN
ATTACH;FMTTYPE=image/jpeg:https://williamsonchamber.com/wp-content/uploads/2025/10/McEwen-Flyer-2.jpg
END:VEVENT
BEGIN:VEVENT
DTSTART;TZID=America/Chicago:20251205T180000
DTEND;TZID=America/Chicago:20251205T200000
DTSTAMP:20260425T102219
CREATED:20250905T141142Z
LAST-MODIFIED:20250905T141142Z
UID:10003086-1764957600-1764964800@williamsonchamber.com
SUMMARY:Lantern Hike at Owl's Hill
DESCRIPTION:Friday\, December 5\, 2025\nHike Time 6 – 8 pm \nIf the date you wish to attend is sold out\, you may fill out our waitlist form on our website. \nCost: $18 / person \nAges 12+ only. Minors (ages 12 – 17) must be accompanied by an adult. \nParticipants under the age of 12 will not be admitted to the program and no refunds will be issued. \nGate opens 30 minutes before program start. Program begins promptly at noted time. No late entries. No exceptions. \nPack dinner and arrive early to picnic on the grounds. We are a pack-in/pack-out facility – please plan to take your trash with you. \nCome along on a nighttime adventure! We’ll explore the woods at night by lantern light\, listen for the sounds of nocturnal animals including owls\, coyotes\, crickets and frogs\, and share stories about the history of Owl’s Hill. \nThis program is for adventurers who are looking for a longer hike than our typical evening programs. The route is 1.5 miles of moderately challenging natural surface trail. Participants can expect moderate uphill and downhill hiking as well as areas of uneven terrain. Once the hike departs\, participants are expected to stay with the group for the duration of the hike. \nClosed-toe shoes suitable for hiking are strongly recommended. \nFor the safety and comfort of all participants\, participants are not permitted to carry additional sources of light (headlamps\, flashlights\, etc.). Lanterns will be provided.
URL:https://williamsonchamber.com/member-event/lantern-hike-at-owls-hill-6/
LOCATION:Owl’s Hill Nature Sanctuary\, 545 Beech Creek Rd S\, Brentwood\, TN\, 37027\, United States
ATTACH;FMTTYPE=image/jpeg:https://williamsonchamber.com/wp-content/uploads/2025/09/Lantern-Hike-1-scaled.jpg
ORGANIZER;CN="Owl's Hill Nature Sanctuary":MAILTO:info@owlshill.org
END:VEVENT
BEGIN:VEVENT
DTSTART;TZID=America/Chicago:20251208T190000
DTEND;TZID=America/Chicago:20251208T203000
DTSTAMP:20260425T102219
CREATED:20230228T161028Z
LAST-MODIFIED:20230228T161028Z
UID:10000072-1765220400-1765225800@williamsonchamber.com
SUMMARY:PFLAG Franklin LGBT Support Group
DESCRIPTION:A support meeting for LGBT individuals\, their families\, friends\, and allies. Confidential gathering and all are welcome. Not a political or religious organization.
URL:https://williamsonchamber.com/member-event/pflag-franklin-lgbt-support-group/2025-12-08/
LOCATION:St. Paul’s Episcopal Church\, 501 W. Main Street\, Franklin\, TN\, 37064\, United States
ATTACH;FMTTYPE=image/jpeg:https://williamsonchamber.com/wp-content/uploads/2023/02/franklin-2000x1500-1.jpg
ORGANIZER;CN="PFLAG Franklin":MAILTO:info@pflagfranklintn.org
END:VEVENT
BEGIN:VEVENT
DTSTART;TZID=America/Chicago:20251219T090000
DTEND;TZID=America/Chicago:20251219T130000
DTSTAMP:20260425T102219
CREATED:20250929T154454Z
LAST-MODIFIED:20250929T154454Z
UID:10003101-1766134800-1766149200@williamsonchamber.com
SUMMARY:Marshmallow Hikes at Owl’s Hill
DESCRIPTION:Join us for Marshmallow Hikes!\nNovember 29\nDecember 19\, 20\, 23\, 27\, 30 & 31\nJanuary 2\, 3\, 10 & 17 \nSpecial Noon Year’s Eve Hike:\nDecember 31 – 11 am Hike: Includes a craft and kid-friendly toast at noon. $15 / person ($17 walk-up) \nMarshmallow hikes begin PROMPTLY at 9:30 am\, 11 am & 1 pm.\nPlease arrive at least 10 minutes prior to your departure time. \nRegister online and save – ticket sales close at 8 am for the day’s hikes\nOnline Tickets: $11 / person\nWalk-up Tickets: $13 / person\nChildren 2 and under: Free \nAre you looking for something to do with the family during the holidays or an excuse to get out of the house by yourself? How does a nice hike in the winter woods followed by hot chocolate and roasted marshmallows sound? Come by Owl’s Hill for our annual Marshmallow and Hot Chocolate Hikes. \nHike Types\nEasy: 1/2 mile\, mostly level with one short hill. Time: 30 – 40 min\nModerate: 1 mile with some hills. 150 foot total elevation gain. Time: about 60 min\nBoth hike types follow natural surface trails. No strollers or wagons. \nNote: To protect the wildlife\, we do not permit pets on the Sanctuary grounds.
URL:https://williamsonchamber.com/member-event/marshmallow-hikes-at-owls-hill-2/2025-12-19/
LOCATION:Owl’s Hill Nature Sanctuary\, 545 Beech Creek Rd S\, Brentwood\, TN\, 37027\, United States
ATTACH;FMTTYPE=image/jpeg:https://williamsonchamber.com/wp-content/uploads/2025/09/Marshmallow-Hikes-1.jpg
ORGANIZER;CN="Owl's Hill Nature Sanctuary":MAILTO:info@owlshill.org
END:VEVENT
BEGIN:VEVENT
DTSTART;TZID=America/Chicago:20251220T090000
DTEND;TZID=America/Chicago:20251220T130000
DTSTAMP:20260425T102219
CREATED:20250929T154454Z
LAST-MODIFIED:20250929T154454Z
UID:10003102-1766221200-1766235600@williamsonchamber.com
SUMMARY:Marshmallow Hikes at Owl’s Hill
DESCRIPTION:Join us for Marshmallow Hikes!\nNovember 29\nDecember 19\, 20\, 23\, 27\, 30 & 31\nJanuary 2\, 3\, 10 & 17 \nSpecial Noon Year’s Eve Hike:\nDecember 31 – 11 am Hike: Includes a craft and kid-friendly toast at noon. $15 / person ($17 walk-up) \nMarshmallow hikes begin PROMPTLY at 9:30 am\, 11 am & 1 pm.\nPlease arrive at least 10 minutes prior to your departure time. \nRegister online and save – ticket sales close at 8 am for the day’s hikes\nOnline Tickets: $11 / person\nWalk-up Tickets: $13 / person\nChildren 2 and under: Free \nAre you looking for something to do with the family during the holidays or an excuse to get out of the house by yourself? How does a nice hike in the winter woods followed by hot chocolate and roasted marshmallows sound? Come by Owl’s Hill for our annual Marshmallow and Hot Chocolate Hikes. \nHike Types\nEasy: 1/2 mile\, mostly level with one short hill. Time: 30 – 40 min\nModerate: 1 mile with some hills. 150 foot total elevation gain. Time: about 60 min\nBoth hike types follow natural surface trails. No strollers or wagons. \nNote: To protect the wildlife\, we do not permit pets on the Sanctuary grounds.
URL:https://williamsonchamber.com/member-event/marshmallow-hikes-at-owls-hill-2/2025-12-20/
LOCATION:Owl’s Hill Nature Sanctuary\, 545 Beech Creek Rd S\, Brentwood\, TN\, 37027\, United States
ATTACH;FMTTYPE=image/jpeg:https://williamsonchamber.com/wp-content/uploads/2025/09/Marshmallow-Hikes-1.jpg
ORGANIZER;CN="Owl's Hill Nature Sanctuary":MAILTO:info@owlshill.org
END:VEVENT
BEGIN:VEVENT
DTSTART;TZID=America/Chicago:20251223T090000
DTEND;TZID=America/Chicago:20251223T130000
DTSTAMP:20260425T102219
CREATED:20250929T154454Z
LAST-MODIFIED:20250929T154454Z
UID:10003103-1766480400-1766494800@williamsonchamber.com
SUMMARY:Marshmallow Hikes at Owl’s Hill
DESCRIPTION:Join us for Marshmallow Hikes!\nNovember 29\nDecember 19\, 20\, 23\, 27\, 30 & 31\nJanuary 2\, 3\, 10 & 17 \nSpecial Noon Year’s Eve Hike:\nDecember 31 – 11 am Hike: Includes a craft and kid-friendly toast at noon. $15 / person ($17 walk-up) \nMarshmallow hikes begin PROMPTLY at 9:30 am\, 11 am & 1 pm.\nPlease arrive at least 10 minutes prior to your departure time. \nRegister online and save – ticket sales close at 8 am for the day’s hikes\nOnline Tickets: $11 / person\nWalk-up Tickets: $13 / person\nChildren 2 and under: Free \nAre you looking for something to do with the family during the holidays or an excuse to get out of the house by yourself? How does a nice hike in the winter woods followed by hot chocolate and roasted marshmallows sound? Come by Owl’s Hill for our annual Marshmallow and Hot Chocolate Hikes. \nHike Types\nEasy: 1/2 mile\, mostly level with one short hill. Time: 30 – 40 min\nModerate: 1 mile with some hills. 150 foot total elevation gain. Time: about 60 min\nBoth hike types follow natural surface trails. No strollers or wagons. \nNote: To protect the wildlife\, we do not permit pets on the Sanctuary grounds.
URL:https://williamsonchamber.com/member-event/marshmallow-hikes-at-owls-hill-2/2025-12-23/
LOCATION:Owl’s Hill Nature Sanctuary\, 545 Beech Creek Rd S\, Brentwood\, TN\, 37027\, United States
ATTACH;FMTTYPE=image/jpeg:https://williamsonchamber.com/wp-content/uploads/2025/09/Marshmallow-Hikes-1.jpg
ORGANIZER;CN="Owl's Hill Nature Sanctuary":MAILTO:info@owlshill.org
END:VEVENT
BEGIN:VEVENT
DTSTART;TZID=America/Chicago:20251227T090000
DTEND;TZID=America/Chicago:20251227T130000
DTSTAMP:20260425T102219
CREATED:20250929T154454Z
LAST-MODIFIED:20250929T154454Z
UID:10003104-1766826000-1766840400@williamsonchamber.com
SUMMARY:Marshmallow Hikes at Owl’s Hill
DESCRIPTION:Join us for Marshmallow Hikes!\nNovember 29\nDecember 19\, 20\, 23\, 27\, 30 & 31\nJanuary 2\, 3\, 10 & 17 \nSpecial Noon Year’s Eve Hike:\nDecember 31 – 11 am Hike: Includes a craft and kid-friendly toast at noon. $15 / person ($17 walk-up) \nMarshmallow hikes begin PROMPTLY at 9:30 am\, 11 am & 1 pm.\nPlease arrive at least 10 minutes prior to your departure time. \nRegister online and save – ticket sales close at 8 am for the day’s hikes\nOnline Tickets: $11 / person\nWalk-up Tickets: $13 / person\nChildren 2 and under: Free \nAre you looking for something to do with the family during the holidays or an excuse to get out of the house by yourself? How does a nice hike in the winter woods followed by hot chocolate and roasted marshmallows sound? Come by Owl’s Hill for our annual Marshmallow and Hot Chocolate Hikes. \nHike Types\nEasy: 1/2 mile\, mostly level with one short hill. Time: 30 – 40 min\nModerate: 1 mile with some hills. 150 foot total elevation gain. Time: about 60 min\nBoth hike types follow natural surface trails. No strollers or wagons. \nNote: To protect the wildlife\, we do not permit pets on the Sanctuary grounds.
URL:https://williamsonchamber.com/member-event/marshmallow-hikes-at-owls-hill-2/2025-12-27/
LOCATION:Owl’s Hill Nature Sanctuary\, 545 Beech Creek Rd S\, Brentwood\, TN\, 37027\, United States
ATTACH;FMTTYPE=image/jpeg:https://williamsonchamber.com/wp-content/uploads/2025/09/Marshmallow-Hikes-1.jpg
ORGANIZER;CN="Owl's Hill Nature Sanctuary":MAILTO:info@owlshill.org
END:VEVENT
BEGIN:VEVENT
DTSTART;TZID=America/Chicago:20251230T090000
DTEND;TZID=America/Chicago:20251230T130000
DTSTAMP:20260425T102219
CREATED:20250929T154454Z
LAST-MODIFIED:20250929T154454Z
UID:10003105-1767085200-1767099600@williamsonchamber.com
SUMMARY:Marshmallow Hikes at Owl’s Hill
DESCRIPTION:Join us for Marshmallow Hikes!\nNovember 29\nDecember 19\, 20\, 23\, 27\, 30 & 31\nJanuary 2\, 3\, 10 & 17 \nSpecial Noon Year’s Eve Hike:\nDecember 31 – 11 am Hike: Includes a craft and kid-friendly toast at noon. $15 / person ($17 walk-up) \nMarshmallow hikes begin PROMPTLY at 9:30 am\, 11 am & 1 pm.\nPlease arrive at least 10 minutes prior to your departure time. \nRegister online and save – ticket sales close at 8 am for the day’s hikes\nOnline Tickets: $11 / person\nWalk-up Tickets: $13 / person\nChildren 2 and under: Free \nAre you looking for something to do with the family during the holidays or an excuse to get out of the house by yourself? How does a nice hike in the winter woods followed by hot chocolate and roasted marshmallows sound? Come by Owl’s Hill for our annual Marshmallow and Hot Chocolate Hikes. \nHike Types\nEasy: 1/2 mile\, mostly level with one short hill. Time: 30 – 40 min\nModerate: 1 mile with some hills. 150 foot total elevation gain. Time: about 60 min\nBoth hike types follow natural surface trails. No strollers or wagons. \nNote: To protect the wildlife\, we do not permit pets on the Sanctuary grounds.
URL:https://williamsonchamber.com/member-event/marshmallow-hikes-at-owls-hill-2/2025-12-30/
LOCATION:Owl’s Hill Nature Sanctuary\, 545 Beech Creek Rd S\, Brentwood\, TN\, 37027\, United States
ATTACH;FMTTYPE=image/jpeg:https://williamsonchamber.com/wp-content/uploads/2025/09/Marshmallow-Hikes-1.jpg
ORGANIZER;CN="Owl's Hill Nature Sanctuary":MAILTO:info@owlshill.org
END:VEVENT
BEGIN:VEVENT
DTSTART;TZID=America/Chicago:20251231T090000
DTEND;TZID=America/Chicago:20251231T130000
DTSTAMP:20260425T102219
CREATED:20250929T154454Z
LAST-MODIFIED:20250929T154454Z
UID:10003106-1767171600-1767186000@williamsonchamber.com
SUMMARY:Marshmallow Hikes at Owl’s Hill
DESCRIPTION:Join us for Marshmallow Hikes!\nNovember 29\nDecember 19\, 20\, 23\, 27\, 30 & 31\nJanuary 2\, 3\, 10 & 17 \nSpecial Noon Year’s Eve Hike:\nDecember 31 – 11 am Hike: Includes a craft and kid-friendly toast at noon. $15 / person ($17 walk-up) \nMarshmallow hikes begin PROMPTLY at 9:30 am\, 11 am & 1 pm.\nPlease arrive at least 10 minutes prior to your departure time. \nRegister online and save – ticket sales close at 8 am for the day’s hikes\nOnline Tickets: $11 / person\nWalk-up Tickets: $13 / person\nChildren 2 and under: Free \nAre you looking for something to do with the family during the holidays or an excuse to get out of the house by yourself? How does a nice hike in the winter woods followed by hot chocolate and roasted marshmallows sound? Come by Owl’s Hill for our annual Marshmallow and Hot Chocolate Hikes. \nHike Types\nEasy: 1/2 mile\, mostly level with one short hill. Time: 30 – 40 min\nModerate: 1 mile with some hills. 150 foot total elevation gain. Time: about 60 min\nBoth hike types follow natural surface trails. No strollers or wagons. \nNote: To protect the wildlife\, we do not permit pets on the Sanctuary grounds.
URL:https://williamsonchamber.com/member-event/marshmallow-hikes-at-owls-hill-2/2025-12-31/
LOCATION:Owl’s Hill Nature Sanctuary\, 545 Beech Creek Rd S\, Brentwood\, TN\, 37027\, United States
ATTACH;FMTTYPE=image/jpeg:https://williamsonchamber.com/wp-content/uploads/2025/09/Marshmallow-Hikes-1.jpg
ORGANIZER;CN="Owl's Hill Nature Sanctuary":MAILTO:info@owlshill.org
END:VEVENT
END:VCALENDAR