BEGIN:VCALENDAR
VERSION:2.0
PRODID:-//Williamson, Inc. - ECPv6.15.18//NONSGML v1.0//EN
CALSCALE:GREGORIAN
METHOD:PUBLISH
X-WR-CALNAME:Williamson, Inc.
X-ORIGINAL-URL:https://williamsonchamber.com
X-WR-CALDESC:Events for Williamson, Inc.
REFRESH-INTERVAL;VALUE=DURATION:PT1H
X-Robots-Tag:noindex
X-PUBLISHED-TTL:PT1H
BEGIN:VTIMEZONE
TZID:America/Chicago
BEGIN:DAYLIGHT
TZOFFSETFROM:-0600
TZOFFSETTO:-0500
TZNAME:CDT
DTSTART:20250309T080000
END:DAYLIGHT
BEGIN:STANDARD
TZOFFSETFROM:-0500
TZOFFSETTO:-0600
TZNAME:CST
DTSTART:20251102T070000
END:STANDARD
BEGIN:DAYLIGHT
TZOFFSETFROM:-0600
TZOFFSETTO:-0500
TZNAME:CDT
DTSTART:20260308T080000
END:DAYLIGHT
BEGIN:STANDARD
TZOFFSETFROM:-0500
TZOFFSETTO:-0600
TZNAME:CST
DTSTART:20261101T070000
END:STANDARD
BEGIN:DAYLIGHT
TZOFFSETFROM:-0600
TZOFFSETTO:-0500
TZNAME:CDT
DTSTART:20270314T080000
END:DAYLIGHT
BEGIN:STANDARD
TZOFFSETFROM:-0500
TZOFFSETTO:-0600
TZNAME:CST
DTSTART:20271107T070000
END:STANDARD
END:VTIMEZONE
BEGIN:VEVENT
DTSTART;TZID=America/Chicago:20260321T080000
DTEND;TZID=America/Chicago:20260321T103000
DTSTAMP:20260422T014054
CREATED:20260202T142602Z
LAST-MODIFIED:20260202T142602Z
UID:10003558-1774080000-1774089000@williamsonchamber.com
SUMMARY:Naturalist Workshop: Beginning Birding
DESCRIPTION:March Workshop: Beginning Birding\nSaturday\, March 21\, 8 – 10:30 am \n$20 / person\nAges 14+ (minors must be accompanied by a registered adult) \nGet ready for spring migration with this introduction to bird watching and bird identification. Learn the basics of bird identification by sight and sound using a field guide or digital app. This program will also discuss how to choose and use binoculars and how to share your findings with digital citizen science apps like eBird and iNaturalist. \nBring binoculars! There will also be a limited number of binoculars to borrow. Participants are welcome to bring field guides or load a digital field guide like Sibley or Audubon on their smartphone.\nInstructor: Laura Smith\, OHNS Staff Naturalist
URL:https://williamsonchamber.com/member-event/naturalist-workshop-beginning-birding-3/
LOCATION:Owl’s Hill Nature Sanctuary\, 545 Beech Creek Rd S\, Brentwood\, TN\, 37027\, United States
ATTACH;FMTTYPE=image/jpeg:https://williamsonchamber.com/wp-content/uploads/2026/01/Heron-1920w-small.jpeg
ORGANIZER;CN="Owl's Hill Nature Sanctuary":MAILTO:info@owlshill.org
END:VEVENT
END:VCALENDAR