BEGIN:VCALENDAR
VERSION:2.0
PRODID:-//Williamson, Inc. - ECPv6.15.18//NONSGML v1.0//EN
CALSCALE:GREGORIAN
METHOD:PUBLISH
X-WR-CALNAME:Williamson, Inc.
X-ORIGINAL-URL:https://williamsonchamber.com
X-WR-CALDESC:Events for Williamson, Inc.
REFRESH-INTERVAL;VALUE=DURATION:PT1H
X-Robots-Tag:noindex
X-PUBLISHED-TTL:PT1H
BEGIN:VTIMEZONE
TZID:America/Chicago
BEGIN:DAYLIGHT
TZOFFSETFROM:-0600
TZOFFSETTO:-0500
TZNAME:CDT
DTSTART:20250309T080000
END:DAYLIGHT
BEGIN:STANDARD
TZOFFSETFROM:-0500
TZOFFSETTO:-0600
TZNAME:CST
DTSTART:20251102T070000
END:STANDARD
BEGIN:DAYLIGHT
TZOFFSETFROM:-0600
TZOFFSETTO:-0500
TZNAME:CDT
DTSTART:20260308T080000
END:DAYLIGHT
BEGIN:STANDARD
TZOFFSETFROM:-0500
TZOFFSETTO:-0600
TZNAME:CST
DTSTART:20261101T070000
END:STANDARD
BEGIN:DAYLIGHT
TZOFFSETFROM:-0600
TZOFFSETTO:-0500
TZNAME:CDT
DTSTART:20270314T080000
END:DAYLIGHT
BEGIN:STANDARD
TZOFFSETFROM:-0500
TZOFFSETTO:-0600
TZNAME:CST
DTSTART:20271107T070000
END:STANDARD
END:VTIMEZONE
BEGIN:VEVENT
DTSTART;TZID=America/Chicago:20260530T130000
DTEND;TZID=America/Chicago:20260530T153000
DTSTAMP:20260422T151240
CREATED:20260319T174203Z
LAST-MODIFIED:20260319T174203Z
UID:10003592-1780146000-1780155000@williamsonchamber.com
SUMMARY:Naturalist Workshop: Into the Trees
DESCRIPTION:Into The Trees\nSaturday\, May 30\, 1 – 3:30 pm\n$20 / person\nAges 14+ (minors must be accompanied by a registered adult) \nTrees are a crucial part of ecosystems all over the planet. The Standing People not only serve as food\, housing\, and oxygen producers for innumerable other species\, they also have a hand in temperature and water control\, soil creation\, and many more functions you may never have thought about. \nYou’ll learn how to identify local tree species\, and find out about their growth and reproduction\, their many roles — and hear about some secrets we’re learning about their intelligence and communication! \nThis workshop is part classroom and part field work\, so bring your notebook AND your hiking boots. Get ready to make some new friends in the forest! \nInstructor: Dan DeFigio\, Certified Tennessee Naturalist
URL:https://williamsonchamber.com/member-event/naturalist-workshop-into-the-trees-2/
LOCATION:Owl’s Hill Nature Sanctuary\, 545 Beech Creek Rd S\, Brentwood\, TN\, 37027\, United States
ORGANIZER;CN="Owl's Hill Nature Sanctuary":MAILTO:info@owlshill.org
END:VEVENT
END:VCALENDAR