BEGIN:VCALENDAR
VERSION:2.0
PRODID:-//Williamson, Inc. - ECPv6.15.18//NONSGML v1.0//EN
CALSCALE:GREGORIAN
METHOD:PUBLISH
X-ORIGINAL-URL:https://williamsonchamber.com
X-WR-CALDESC:Events for Williamson, Inc.
REFRESH-INTERVAL;VALUE=DURATION:PT1H
X-Robots-Tag:noindex
X-PUBLISHED-TTL:PT1H
BEGIN:VTIMEZONE
TZID:America/Chicago
BEGIN:DAYLIGHT
TZOFFSETFROM:-0600
TZOFFSETTO:-0500
TZNAME:CDT
DTSTART:20250309T080000
END:DAYLIGHT
BEGIN:STANDARD
TZOFFSETFROM:-0500
TZOFFSETTO:-0600
TZNAME:CST
DTSTART:20251102T070000
END:STANDARD
BEGIN:DAYLIGHT
TZOFFSETFROM:-0600
TZOFFSETTO:-0500
TZNAME:CDT
DTSTART:20260308T080000
END:DAYLIGHT
BEGIN:STANDARD
TZOFFSETFROM:-0500
TZOFFSETTO:-0600
TZNAME:CST
DTSTART:20261101T070000
END:STANDARD
BEGIN:DAYLIGHT
TZOFFSETFROM:-0600
TZOFFSETTO:-0500
TZNAME:CDT
DTSTART:20270314T080000
END:DAYLIGHT
BEGIN:STANDARD
TZOFFSETFROM:-0500
TZOFFSETTO:-0600
TZNAME:CST
DTSTART:20271107T070000
END:STANDARD
END:VTIMEZONE
BEGIN:VEVENT
DTSTART;TZID=America/Chicago:20260501T200000
DTEND;TZID=America/Chicago:20260501T220000
DTSTAMP:20260421T215708
CREATED:20260202T142653Z
LAST-MODIFIED:20260202T142653Z
UID:10003570-1777665600-1777672800@williamsonchamber.com
SUMMARY:Lantern Hikes at Owl's Hill
DESCRIPTION:Spring Lantern Hikes\nFriday\, March 27\nHike Time: 7 – 9 pm \nFriday\, April 10\nHike Time 7:30 – 9:30 pm \nFriday\, May 1\nHike Time 8 – 10 pm \nAll hikes are schedule to begin after sunset. Please note the start time of your hike. \nCost: $18 / person\nAges 12+ only. Minors (ages 12 – 17) must be accompanied by an adult. \nParticipants under the age of 12 will not be admitted to the program and no refunds will be issued. \nGate opens 30 minutes before program start. Program begins promptly at noted time. No late entries. No exceptions. \nPack dinner and arrive early to picnic on the grounds. We are a pack-in/pack-out facility – please plan to take your trash with you. \nCome along on a nighttime adventure! We’ll explore the woods at night by lantern light\, listen for the sounds of nocturnal animals including owls\, coyotes\, crickets and frogs\, and share stories about the history of Owl’s Hill. \nThis program is for adventurers who are looking for a longer hike than our typical evening programs. The route is 1.5 miles of moderately challenging natural surface trail. Participants can expect moderate uphill and downhill hiking as well as areas of uneven terrain. Once the hike departs\, participants are expected to stay with the group for the duration of the hike. \nClosed-toe shoes suitable for hiking are strongly recommended. \nFor the safety and comfort of all participants\, participants are not permitted to carry additional sources of light (headlamps\, flashlights\, etc.). Lanterns will be provided.
URL:https://williamsonchamber.com/member-event/lantern-hikes-at-owls-hill-2/2026-05-01/
LOCATION:Owl’s Hill Nature Sanctuary\, 545 Beech Creek Rd S\, Brentwood\, TN\, 37027\, United States
ATTACH;FMTTYPE=image/jpeg:https://williamsonchamber.com/wp-content/uploads/2026/01/Lantern-hikes-scaled.jpg
ORGANIZER;CN="Owl's Hill Nature Sanctuary":MAILTO:info@owlshill.org
END:VEVENT
BEGIN:VEVENT
DTSTART;TZID=America/Chicago:20260516T100000
DTEND;TZID=America/Chicago:20260516T123000
DTSTAMP:20260421T215708
CREATED:20260311T161632Z
LAST-MODIFIED:20260311T161632Z
UID:10003590-1778925600-1778934600@williamsonchamber.com
SUMMARY:Spring Native Plant Sale at Owl's Hill
DESCRIPTION:Get your garden ready for spring!\nChoose from a selection of native seeds\, perennials\, trees\, shrubs\, grasses and vines.\nCheck out our website for our pre-sale inventory. Quantities are limited. Stock is subject to change. All sales are final. \nOnline Pre-Sale: May 5 – 12\nPre-orders must be picked up on Friday\, May 15 between 8 am – 2 pm \nIn-Person Event:\nSaturday\, May 16\n10 am – 12:30 pm \nProceeds benefit Owl’s Hill Nature Sanctuary and Wild Ones of Middle Tennessee
URL:https://williamsonchamber.com/member-event/spring-native-plant-sale-at-owls-hill-2/
LOCATION:Owl’s Hill Nature Sanctuary\, 545 Beech Creek Rd S\, Brentwood\, TN\, 37027\, United States
ATTACH;FMTTYPE=image/jpeg:https://williamsonchamber.com/wp-content/uploads/2026/03/BlueWoodAster-1920w-small.jpg
ORGANIZER;CN="Owl's Hill Nature Sanctuary":MAILTO:info@owlshill.org
END:VEVENT
BEGIN:VEVENT
DTSTART;TZID=America/Chicago:20260530T130000
DTEND;TZID=America/Chicago:20260530T153000
DTSTAMP:20260421T215708
CREATED:20260319T174203Z
LAST-MODIFIED:20260319T174203Z
UID:10003592-1780146000-1780155000@williamsonchamber.com
SUMMARY:Naturalist Workshop: Into the Trees
DESCRIPTION:Into The Trees\nSaturday\, May 30\, 1 – 3:30 pm\n$20 / person\nAges 14+ (minors must be accompanied by a registered adult) \nTrees are a crucial part of ecosystems all over the planet. The Standing People not only serve as food\, housing\, and oxygen producers for innumerable other species\, they also have a hand in temperature and water control\, soil creation\, and many more functions you may never have thought about. \nYou’ll learn how to identify local tree species\, and find out about their growth and reproduction\, their many roles — and hear about some secrets we’re learning about their intelligence and communication! \nThis workshop is part classroom and part field work\, so bring your notebook AND your hiking boots. Get ready to make some new friends in the forest! \nInstructor: Dan DeFigio\, Certified Tennessee Naturalist
URL:https://williamsonchamber.com/member-event/naturalist-workshop-into-the-trees-2/
LOCATION:Owl’s Hill Nature Sanctuary\, 545 Beech Creek Rd S\, Brentwood\, TN\, 37027\, United States
ORGANIZER;CN="Owl's Hill Nature Sanctuary":MAILTO:info@owlshill.org
END:VEVENT
BEGIN:VEVENT
DTSTART;TZID=America/Chicago:20260612T190000
DTEND;TZID=America/Chicago:20260612T203000
DTSTAMP:20260421T215708
CREATED:20260410T195718Z
LAST-MODIFIED:20260410T195718Z
UID:10003610-1781290800-1781296200@williamsonchamber.com
SUMMARY:Family Firefly Hikes
DESCRIPTION:2026 Family Firefly Hikes\nJune 12 & 19 \nJuly 10 & 17\nAll Hikes: 7 – 8:30 pm \n$15 Adult ticket (ages 13+)\n$12 Child ticket (12 and under) \nSuitable for Ages 4+\nChildren 2 and under FREE \nFamily Firefly Hikes are designed for families with young kids. If you are looking for a night hike geared towards adults\, check out our Full Moon Hikes: https://www.owlshill.org/fullmoonhike \nNo strollers or wagons. Children must either walk or be carried. \nGate opens 30 minutes before program start. Program begins promptly at noted time. No late entries. \nPack dinner and arrive early to picnic on the grounds. We are a pack-in/pack-out facility. Please carry out your trash. \nThis evening program is designed to introduce young explorers to the wonders of the natural world after dark. Find out what makes owls such good hunters\, why a firefly lights up\, and how your vision changes in the dark. Meet our owl ambassadors\, listen for night sounds\, and keep an eye out for nocturnal creatures as we go on a kid-friendly hike through the meadow and orchard. \nThis program includes an easy hike over mostly flat ground with one short hill. Our trails are natural surface and hikers can expect a few spots with uneven terrain. Wear shoes suitable for hiking. Insect repellent is strongly recommended. \nNote: To protect the wildlife\, we do not permit pets on the Sanctuary grounds.
URL:https://williamsonchamber.com/member-event/family-firefly-hikes-4/2026-06-12/
LOCATION:Owl’s Hill Nature Sanctuary\, 545 Beech Creek Rd S\, Brentwood\, TN\, 37027\, United States
ATTACH;FMTTYPE=image/jpeg:https://williamsonchamber.com/wp-content/uploads/2026/04/Family-Firefly-Hikes.jpg
ORGANIZER;CN="Owl's Hill Nature Sanctuary":MAILTO:info@owlshill.org
END:VEVENT
BEGIN:VEVENT
DTSTART;TZID=America/Chicago:20260613T080000
DTEND;TZID=America/Chicago:20260613T170000
DTSTAMP:20260421T215708
CREATED:20260410T195741Z
LAST-MODIFIED:20260410T195741Z
UID:10003617-1781337600-1781370000@williamsonchamber.com
SUMMARY:Family Geocaching Day
DESCRIPTION:June 13\, 2026\nEvent Check In: 10 am – 1 pm\nTrails close at 4 pm \nCost: $10 Adult (ages 13+)\, $8 Child (ages 12-5) Children 2 & under free \nCome to Owl’s Hill for a day of family fun and exploration! Geocaches are hidden in containers that can be found using a GPS or smartphone. Head out on our kid-friendly course set up with caches ready to be found. (We’ll also have a couple more challenging caches for anyone looking for extra adventure.) Hike around in the woods and see what you can find. No experience necessary!\nBring your own GPS device or use your smartphone with Google Maps installed to find the caches. Participants are welcome to bring tradeables (small toys or trinkets) to leave or exchange in caches. \nCheck in between 10 am and 1 pm. Trails are open for geocaching until 4 pm. The gate closes promptly at 4 pm.\nPlanning to bring a picnic? You are welcome to use the picnic tables in our orchard. Please plan to carry out your trash. \nTo protect wildlife\, we do not permit pets on the Sanctuary grounds.
URL:https://williamsonchamber.com/member-event/family-geocaching-day-7/2026-06-13/1/
LOCATION:Owl’s Hill Nature Sanctuary\, 545 Beech Creek Rd S\, Brentwood\, TN\, 37027\, United States
ATTACH;FMTTYPE=image/jpeg:https://williamsonchamber.com/wp-content/uploads/2026/04/Family-Geocaching-Day.jpg
ORGANIZER;CN="Owl's Hill Nature Sanctuary":MAILTO:info@owlshill.org
END:VEVENT
BEGIN:VEVENT
DTSTART;TZID=America/Chicago:20260613T100000
DTEND;TZID=America/Chicago:20260613T130000
DTSTAMP:20260421T215708
CREATED:20260410T195741Z
LAST-MODIFIED:20260410T195741Z
UID:10003618-1781344800-1781355600@williamsonchamber.com
SUMMARY:Family Geocaching Day
DESCRIPTION:June 13\, 2026\nEvent Check In: 10 am – 1 pm\nTrails close at 4 pm \nCost: $10 Adult (ages 13+)\, $8 Child (ages 12-5) Children 2 & under free \nCome to Owl’s Hill for a day of family fun and exploration! Geocaches are hidden in containers that can be found using a GPS or smartphone. Head out on our kid-friendly course set up with caches ready to be found. (We’ll also have a couple more challenging caches for anyone looking for extra adventure.) Hike around in the woods and see what you can find. No experience necessary!\nBring your own GPS device or use your smartphone with Google Maps installed to find the caches. Participants are welcome to bring tradeables (small toys or trinkets) to leave or exchange in caches. \nCheck in between 10 am and 1 pm. Trails are open for geocaching until 4 pm. The gate closes promptly at 4 pm.\nPlanning to bring a picnic? You are welcome to use the picnic tables in our orchard. Please plan to carry out your trash. \nTo protect wildlife\, we do not permit pets on the Sanctuary grounds.
URL:https://williamsonchamber.com/member-event/family-geocaching-day-7/2026-06-13/2/
LOCATION:Owl’s Hill Nature Sanctuary\, 545 Beech Creek Rd S\, Brentwood\, TN\, 37027\, United States
ATTACH;FMTTYPE=image/jpeg:https://williamsonchamber.com/wp-content/uploads/2026/04/Family-Geocaching-Day.jpg
ORGANIZER;CN="Owl's Hill Nature Sanctuary":MAILTO:info@owlshill.org
END:VEVENT
BEGIN:VEVENT
DTSTART;TZID=America/Chicago:20260619T190000
DTEND;TZID=America/Chicago:20260619T203000
DTSTAMP:20260421T215708
CREATED:20260410T195718Z
LAST-MODIFIED:20260410T195718Z
UID:10003611-1781895600-1781901000@williamsonchamber.com
SUMMARY:Family Firefly Hikes
DESCRIPTION:2026 Family Firefly Hikes\nJune 12 & 19 \nJuly 10 & 17\nAll Hikes: 7 – 8:30 pm \n$15 Adult ticket (ages 13+)\n$12 Child ticket (12 and under) \nSuitable for Ages 4+\nChildren 2 and under FREE \nFamily Firefly Hikes are designed for families with young kids. If you are looking for a night hike geared towards adults\, check out our Full Moon Hikes: https://www.owlshill.org/fullmoonhike \nNo strollers or wagons. Children must either walk or be carried. \nGate opens 30 minutes before program start. Program begins promptly at noted time. No late entries. \nPack dinner and arrive early to picnic on the grounds. We are a pack-in/pack-out facility. Please carry out your trash. \nThis evening program is designed to introduce young explorers to the wonders of the natural world after dark. Find out what makes owls such good hunters\, why a firefly lights up\, and how your vision changes in the dark. Meet our owl ambassadors\, listen for night sounds\, and keep an eye out for nocturnal creatures as we go on a kid-friendly hike through the meadow and orchard. \nThis program includes an easy hike over mostly flat ground with one short hill. Our trails are natural surface and hikers can expect a few spots with uneven terrain. Wear shoes suitable for hiking. Insect repellent is strongly recommended. \nNote: To protect the wildlife\, we do not permit pets on the Sanctuary grounds.
URL:https://williamsonchamber.com/member-event/family-firefly-hikes-4/2026-06-19/
LOCATION:Owl’s Hill Nature Sanctuary\, 545 Beech Creek Rd S\, Brentwood\, TN\, 37027\, United States
ATTACH;FMTTYPE=image/jpeg:https://williamsonchamber.com/wp-content/uploads/2026/04/Family-Firefly-Hikes.jpg
ORGANIZER;CN="Owl's Hill Nature Sanctuary":MAILTO:info@owlshill.org
END:VEVENT
BEGIN:VEVENT
DTSTART;TZID=America/Chicago:20260626T193000
DTEND;TZID=America/Chicago:20260626T210000
DTSTAMP:20260421T215708
CREATED:20260410T195731Z
LAST-MODIFIED:20260410T195731Z
UID:10003614-1782502200-1782507600@williamsonchamber.com
SUMMARY:Full Moon Hikes
DESCRIPTION:2026 Full Moon Hikes\nStrawberry Moon: June 26\nBuck Moon: July 31\nSturgeon Moon: August 28 \nAll Hikes: 7:30 – 9 pm\n$15/person\nAge 12+ (minors must be accompanied by an adult)\nFull moon hikes are designed for adults and teens\, if you’re looking for a hike geared toward families and little kids\, check out our Firefly Hikes: https://www.owlshill.org/family-firefly-hikes \nGate opens 1 hour before program start. Program begins promptly at 7:30. No late entries. No exceptions. \nPack dinner and arrive early to picnic on the grounds. We are a pack-in/pack-out facility. \nJoin us as we explore Owl’s Hill at sunset and enjoy the sights and sounds of day turning to night. We’ll listen for owls\, coyotes\, and night-singing insects. As the stars come out\, we’ll look for constellations\, planets\, and even meteors. \nMeet our non-releasable owl ambassadors and learn about the adaptations that help nocturnal animals survive. Find out what we can expect to see in the sky that night. After that\, we’ll head out on the trail to look and listen for the wonders of the night. No flashlights\, please! \nOwl Prowl programs include an easy one-mile hike with some gentle uphill and downhill hiking. Our trails are natural surface\, and hikers can expect a few spots with uneven terrain. Wear shoes suitable for hiking. Insect repellent is strongly recommended.
URL:https://williamsonchamber.com/member-event/full-moon-hikes-3/2026-06-26/
LOCATION:Owl’s Hill Nature Sanctuary\, 545 Beech Creek Rd S\, Brentwood\, TN\, 37027\, United States
ATTACH;FMTTYPE=image/jpeg:https://williamsonchamber.com/wp-content/uploads/2026/04/Full-Moon-Hikes.jpg
ORGANIZER;CN="Owl's Hill Nature Sanctuary":MAILTO:info@owlshill.org
END:VEVENT
BEGIN:VEVENT
DTSTART;TZID=America/Chicago:20260710T190000
DTEND;TZID=America/Chicago:20260710T203000
DTSTAMP:20260421T215708
CREATED:20260410T195718Z
LAST-MODIFIED:20260410T195718Z
UID:10003612-1783710000-1783715400@williamsonchamber.com
SUMMARY:Family Firefly Hikes
DESCRIPTION:2026 Family Firefly Hikes\nJune 12 & 19 \nJuly 10 & 17\nAll Hikes: 7 – 8:30 pm \n$15 Adult ticket (ages 13+)\n$12 Child ticket (12 and under) \nSuitable for Ages 4+\nChildren 2 and under FREE \nFamily Firefly Hikes are designed for families with young kids. If you are looking for a night hike geared towards adults\, check out our Full Moon Hikes: https://www.owlshill.org/fullmoonhike \nNo strollers or wagons. Children must either walk or be carried. \nGate opens 30 minutes before program start. Program begins promptly at noted time. No late entries. \nPack dinner and arrive early to picnic on the grounds. We are a pack-in/pack-out facility. Please carry out your trash. \nThis evening program is designed to introduce young explorers to the wonders of the natural world after dark. Find out what makes owls such good hunters\, why a firefly lights up\, and how your vision changes in the dark. Meet our owl ambassadors\, listen for night sounds\, and keep an eye out for nocturnal creatures as we go on a kid-friendly hike through the meadow and orchard. \nThis program includes an easy hike over mostly flat ground with one short hill. Our trails are natural surface and hikers can expect a few spots with uneven terrain. Wear shoes suitable for hiking. Insect repellent is strongly recommended. \nNote: To protect the wildlife\, we do not permit pets on the Sanctuary grounds.
URL:https://williamsonchamber.com/member-event/family-firefly-hikes-4/2026-07-10/
LOCATION:Owl’s Hill Nature Sanctuary\, 545 Beech Creek Rd S\, Brentwood\, TN\, 37027\, United States
ATTACH;FMTTYPE=image/jpeg:https://williamsonchamber.com/wp-content/uploads/2026/04/Family-Firefly-Hikes.jpg
ORGANIZER;CN="Owl's Hill Nature Sanctuary":MAILTO:info@owlshill.org
END:VEVENT
BEGIN:VEVENT
DTSTART;TZID=America/Chicago:20260717T190000
DTEND;TZID=America/Chicago:20260717T203000
DTSTAMP:20260421T215708
CREATED:20260410T195718Z
LAST-MODIFIED:20260410T195718Z
UID:10003613-1784314800-1784320200@williamsonchamber.com
SUMMARY:Family Firefly Hikes
DESCRIPTION:2026 Family Firefly Hikes\nJune 12 & 19 \nJuly 10 & 17\nAll Hikes: 7 – 8:30 pm \n$15 Adult ticket (ages 13+)\n$12 Child ticket (12 and under) \nSuitable for Ages 4+\nChildren 2 and under FREE \nFamily Firefly Hikes are designed for families with young kids. If you are looking for a night hike geared towards adults\, check out our Full Moon Hikes: https://www.owlshill.org/fullmoonhike \nNo strollers or wagons. Children must either walk or be carried. \nGate opens 30 minutes before program start. Program begins promptly at noted time. No late entries. \nPack dinner and arrive early to picnic on the grounds. We are a pack-in/pack-out facility. Please carry out your trash. \nThis evening program is designed to introduce young explorers to the wonders of the natural world after dark. Find out what makes owls such good hunters\, why a firefly lights up\, and how your vision changes in the dark. Meet our owl ambassadors\, listen for night sounds\, and keep an eye out for nocturnal creatures as we go on a kid-friendly hike through the meadow and orchard. \nThis program includes an easy hike over mostly flat ground with one short hill. Our trails are natural surface and hikers can expect a few spots with uneven terrain. Wear shoes suitable for hiking. Insect repellent is strongly recommended. \nNote: To protect the wildlife\, we do not permit pets on the Sanctuary grounds.
URL:https://williamsonchamber.com/member-event/family-firefly-hikes-4/2026-07-17/
LOCATION:Owl’s Hill Nature Sanctuary\, 545 Beech Creek Rd S\, Brentwood\, TN\, 37027\, United States
ATTACH;FMTTYPE=image/jpeg:https://williamsonchamber.com/wp-content/uploads/2026/04/Family-Firefly-Hikes.jpg
ORGANIZER;CN="Owl's Hill Nature Sanctuary":MAILTO:info@owlshill.org
END:VEVENT
BEGIN:VEVENT
DTSTART;TZID=America/Chicago:20260731T193000
DTEND;TZID=America/Chicago:20260731T210000
DTSTAMP:20260421T215708
CREATED:20260410T195731Z
LAST-MODIFIED:20260410T195731Z
UID:10003615-1785526200-1785531600@williamsonchamber.com
SUMMARY:Full Moon Hikes
DESCRIPTION:2026 Full Moon Hikes\nStrawberry Moon: June 26\nBuck Moon: July 31\nSturgeon Moon: August 28 \nAll Hikes: 7:30 – 9 pm\n$15/person\nAge 12+ (minors must be accompanied by an adult)\nFull moon hikes are designed for adults and teens\, if you’re looking for a hike geared toward families and little kids\, check out our Firefly Hikes: https://www.owlshill.org/family-firefly-hikes \nGate opens 1 hour before program start. Program begins promptly at 7:30. No late entries. No exceptions. \nPack dinner and arrive early to picnic on the grounds. We are a pack-in/pack-out facility. \nJoin us as we explore Owl’s Hill at sunset and enjoy the sights and sounds of day turning to night. We’ll listen for owls\, coyotes\, and night-singing insects. As the stars come out\, we’ll look for constellations\, planets\, and even meteors. \nMeet our non-releasable owl ambassadors and learn about the adaptations that help nocturnal animals survive. Find out what we can expect to see in the sky that night. After that\, we’ll head out on the trail to look and listen for the wonders of the night. No flashlights\, please! \nOwl Prowl programs include an easy one-mile hike with some gentle uphill and downhill hiking. Our trails are natural surface\, and hikers can expect a few spots with uneven terrain. Wear shoes suitable for hiking. Insect repellent is strongly recommended.
URL:https://williamsonchamber.com/member-event/full-moon-hikes-3/2026-07-31/
LOCATION:Owl’s Hill Nature Sanctuary\, 545 Beech Creek Rd S\, Brentwood\, TN\, 37027\, United States
ATTACH;FMTTYPE=image/jpeg:https://williamsonchamber.com/wp-content/uploads/2026/04/Full-Moon-Hikes.jpg
ORGANIZER;CN="Owl's Hill Nature Sanctuary":MAILTO:info@owlshill.org
END:VEVENT
BEGIN:VEVENT
DTSTART;TZID=America/Chicago:20260828T193000
DTEND;TZID=America/Chicago:20260828T210000
DTSTAMP:20260421T215708
CREATED:20260410T195731Z
LAST-MODIFIED:20260410T195731Z
UID:10003616-1787945400-1787950800@williamsonchamber.com
SUMMARY:Full Moon Hikes
DESCRIPTION:2026 Full Moon Hikes\nStrawberry Moon: June 26\nBuck Moon: July 31\nSturgeon Moon: August 28 \nAll Hikes: 7:30 – 9 pm\n$15/person\nAge 12+ (minors must be accompanied by an adult)\nFull moon hikes are designed for adults and teens\, if you’re looking for a hike geared toward families and little kids\, check out our Firefly Hikes: https://www.owlshill.org/family-firefly-hikes \nGate opens 1 hour before program start. Program begins promptly at 7:30. No late entries. No exceptions. \nPack dinner and arrive early to picnic on the grounds. We are a pack-in/pack-out facility. \nJoin us as we explore Owl’s Hill at sunset and enjoy the sights and sounds of day turning to night. We’ll listen for owls\, coyotes\, and night-singing insects. As the stars come out\, we’ll look for constellations\, planets\, and even meteors. \nMeet our non-releasable owl ambassadors and learn about the adaptations that help nocturnal animals survive. Find out what we can expect to see in the sky that night. After that\, we’ll head out on the trail to look and listen for the wonders of the night. No flashlights\, please! \nOwl Prowl programs include an easy one-mile hike with some gentle uphill and downhill hiking. Our trails are natural surface\, and hikers can expect a few spots with uneven terrain. Wear shoes suitable for hiking. Insect repellent is strongly recommended.
URL:https://williamsonchamber.com/member-event/full-moon-hikes-3/2026-08-28/
LOCATION:Owl’s Hill Nature Sanctuary\, 545 Beech Creek Rd S\, Brentwood\, TN\, 37027\, United States
ATTACH;FMTTYPE=image/jpeg:https://williamsonchamber.com/wp-content/uploads/2026/04/Full-Moon-Hikes.jpg
ORGANIZER;CN="Owl's Hill Nature Sanctuary":MAILTO:info@owlshill.org
END:VEVENT
END:VCALENDAR