BEGIN:VCALENDAR
VERSION:2.0
PRODID:-//Williamson, Inc. - ECPv6.15.18//NONSGML v1.0//EN
CALSCALE:GREGORIAN
METHOD:PUBLISH
X-WR-CALNAME:Williamson, Inc.
X-ORIGINAL-URL:https://williamsonchamber.com
X-WR-CALDESC:Events for Williamson, Inc.
REFRESH-INTERVAL;VALUE=DURATION:PT1H
X-Robots-Tag:noindex
X-PUBLISHED-TTL:PT1H
BEGIN:VTIMEZONE
TZID:America/Chicago
BEGIN:DAYLIGHT
TZOFFSETFROM:-0600
TZOFFSETTO:-0500
TZNAME:CDT
DTSTART:20220313T080000
END:DAYLIGHT
BEGIN:STANDARD
TZOFFSETFROM:-0500
TZOFFSETTO:-0600
TZNAME:CST
DTSTART:20221106T070000
END:STANDARD
BEGIN:DAYLIGHT
TZOFFSETFROM:-0600
TZOFFSETTO:-0500
TZNAME:CDT
DTSTART:20230312T080000
END:DAYLIGHT
BEGIN:STANDARD
TZOFFSETFROM:-0500
TZOFFSETTO:-0600
TZNAME:CST
DTSTART:20231105T070000
END:STANDARD
BEGIN:DAYLIGHT
TZOFFSETFROM:-0600
TZOFFSETTO:-0500
TZNAME:CDT
DTSTART:20240310T080000
END:DAYLIGHT
BEGIN:STANDARD
TZOFFSETFROM:-0500
TZOFFSETTO:-0600
TZNAME:CST
DTSTART:20241103T070000
END:STANDARD
END:VTIMEZONE
BEGIN:VEVENT
DTSTART;TZID=America/Chicago:20230320T090000
DTEND;TZID=America/Chicago:20230320T103000
DTSTAMP:20260421T165058
CREATED:20230308T203503Z
LAST-MODIFIED:20230308T203503Z
UID:10000111-1679302800-1679308200@williamsonchamber.com
SUMMARY:Franklin Tomorrow's FrankTalks: People to Know
DESCRIPTION:Franklin Tomorrow’s FrankTalks has a new date and location for March.\nThe event will be held on Monday\, March 20\, at the Williamson County Enrichment Center located at 110 Everbright Ave in Franklin\, TN 37064. It will begin at 9 a.m. with a coffee social and the program at 9:30 a.m.\nThe theme for this program is “People to Know”\, featuring a panel of business and community leaders who you need to know in 2023. Panelists will be announced closer to March 20\, but we promise an interesting mix of movers and shakers and interesting people.\nWe are holding the event one week later to avoid the week of Spring Break for local school districts.\nOur coffee social with Lyon Leadership Group\, McDonald’s will begin at 9 a.m.\nFrankTalks is presented monthly in partnership with Renasant Bank and Franklin Tomorrow’s sustaining partners\, Atmos Energy and Williamson Health.
URL:https://williamsonchamber.com/member-event/franklin-tomorrows-franktalks-people-know/
LOCATION:Williamson County Enrichment Center\, 110 Everbright Ave\, Franklin\, 37064
ATTACH;FMTTYPE=image/png:https://williamsonchamber.com/wp-content/uploads/2023/03/Promo-Social.png
ORGANIZER;CN="Franklin Tomorrow Inc.":MAILTO:mindy@franklintomorrow.org
END:VEVENT
BEGIN:VEVENT
DTSTART;TZID=America/Chicago:20230228T070000
DTEND;TZID=America/Chicago:20230228T210000
DTSTAMP:20260421T165058
CREATED:20230203T003421Z
LAST-MODIFIED:20230203T003421Z
UID:10000032-1677567600-1677618000@williamsonchamber.com
SUMMARY:Franklin Tomorrow's Breakfast with the Mayors: Two Mayors. Shared Vision.
DESCRIPTION:Williamson County Mayor Rogers Anderson and Franklin Mayor Dr. Ken Moore will be the program for the Tuesday\, Feb. 28\, Franklin Tomorrow Breakfast With the Mayors\, presented by Pinnacle Financial Partners and a host of other partners.\nThis event is being rescheduled from the original date of Jan. 31. Participants should register again to save their seat at the event\, which will begin at 7 a.m. at Rolling Hills Community Church\, 1810 Columbia Ave.\, Franklin\, with a 45-minute networking breakfast. The program will begin at 7:45 a.m. and following some opening announcements\, will feature a presentation from Anderson and Moore.\nBreakfast With the Mayors is presented by our co-presenting partners\, Pinnacle Financial Partners and Gresham Smith. Additional support comes from Williamson Memorial Funeral Home & Cremation Services\, Hazen and Sawyer\, Williamson County Association of REALTORS\, Gresham Smith\, Vulcan Materials\, and UHY Certified Public Accountants (formerly Patterson Hardee Ballentine CPAs). Lending support for the overall work of Franklin Tomorrow are our Sustaining Partners Atmos Energy and Williamson Medical Center.\nLyon Leadership Group\, the new franchisee of McDonald’s in Williamson County and Middle Tennessee\, and Puckett’s Gro. & Restaurant will provide breakfast.\nThere is no cost to attend Breakfast With the Mayors thanks to the support of our generous partners.
URL:https://williamsonchamber.com/member-event/franklin-tomorrows-breakfast-mayors-two-mayors-shared-vision/
LOCATION:Rolling Hills Community Church\, 1810 Columbia Avenue\, Franklin\, TN\, 37064\, United States
ATTACH;FMTTYPE=image/png:https://williamsonchamber.com/wp-content/uploads/2023/02/January-2023-BWTM.png
ORGANIZER;CN="Franklin Tomorrow Inc.":MAILTO:mindy@franklintomorrow.org
END:VEVENT
BEGIN:VEVENT
DTSTART;TZID=America/Chicago:20230213T090000
DTEND;TZID=America/Chicago:20230213T100000
DTSTAMP:20260421T165058
CREATED:20230130T195019Z
LAST-MODIFIED:20230130T202618Z
UID:10000031-1676278800-1676282400@williamsonchamber.com
SUMMARY:Franklin Tomorrow FrankTalks: New Faces in the Legislature
DESCRIPTION:Join Franklin Tomorrow for our monthly FrankTalks series as we hear from two newly elected members of the Tennessee House of Representatives.\nDuring the event\, you will hear from Gino Bulso of District 61 and Jake McCalmon of District 63.\nGino Bulso\, an attorney at Bulso PLC\, has almost thirty-five years experience as a trial lawyer and has litigated civil cases of every stripe. In addition to his work before the Tennessee Supreme Court\, Gino has handled numerous cases in the Tennessee Court of Appeals and in the United States Courts of Appeals. He has represented clients before the Fourth\, Fifth\, Sixth\, Seventh\, and Eleventh Circuits. He currently is the Representative of District 61\, which covers the Cool Springs/Brentwood area.\nJake McCalmon has more than 10 years of experience in the business world\, working in the technology sector as an operations manager. In 2020\, Jake combined his entrepreneurial spirit with his desire to help others improve themselves to launch Bulldog Martial Arts\, a martial arts studio in Franklin. He is currently the Representative of District 63\, which covers southeastern Williamson County.\nThe event will be held at First Presbyterian Church located at 101 Legends Club Lane in Franklin\, TN 3709. It will begin at 9 a.m. with a coffee social and the program at 9:30 a.m.\nOur coffee social with Lyon Leadership Group\, McDonald’s will begin at 9 a.m.\nFrankTalks is presented monthly in partnership with Renasant Bank and Franklin Tomorrow’s sustaining partners\, Atmos Energy and Williamson Health.\nPlease RSVP at https://Feb13FrankTalks.eventbrite.com
URL:https://williamsonchamber.com/member-event/franklin-tomorrow-franktalks-new-faces-legislature/
LOCATION:First Presbyterian Church\, 101 Legends Club Lane\, Franklin\, 37069
ATTACH;FMTTYPE=image/png:https://williamsonchamber.com/wp-content/uploads/2023/01/2023-Eventbrite-Logo-1.png
ORGANIZER;CN="Franklin Tomorrow Inc.":MAILTO:mindy@franklintomorrow.org
END:VEVENT
BEGIN:VEVENT
DTSTART;TZID=America/Chicago:20230131T070000
DTEND;TZID=America/Chicago:20230131T090000
DTSTAMP:20260421T165058
CREATED:20230118T182922Z
LAST-MODIFIED:20230118T182922Z
UID:10000021-1675148400-1675155600@williamsonchamber.com
SUMMARY:Franklin Tomorrow Breakfast With the Mayors
DESCRIPTION:Williamson County Mayor Rogers Anderson and Franklin Mayor Dr. Ken Moore will be the program for the Tuesday\, Jan. 31\, Franklin Tomorrow Breakfast With the Mayors\, presented by Pinnacle Financial Partners and a host of other partners. \nThe event will begin at 7 a.m. at Rolling Hills Community Church\, 1810 Columbia Ave.\, Franklin\, with a 45-minute networking breakfast. The program will begin at 7:45 a.m. and following some opening announcements\, will feature a presentation from Anderson and Moore. \nBreakfast With the Mayors is presented by Pinnacle Financial Partners with additional support from Williamson Memorial Funeral Home & Cremation Services\, Hazen and Sawyer\, Williamson County Association of REALTORS\, Gresham Smith\, Vulcan Materials\, and UHY Certified Public Accountants (formerly Patterson Hardee Ballentine CPAs). Lending support for the overall work of Franklin Tomorrow are our Sustaining Partners Atmos Energy and Williamson Medical Center. \nLyon Leadership Group\, the new franchisee of McDonald’s in Williamson County and Middle Tennessee\, and Puckett’s Gro. & Restaurant will provide breakfast. \nTo RSVP for this event\, go to https://Jan31BreakfastWithMayors.eventbrite.com
URL:https://williamsonchamber.com/member-event/franklin-tomorrow-breakfast-mayors/
LOCATION:Rolling Hills Community Church\, 1810 Columbia Avenue\, Franklin\, TN\, 37064\, United States
ATTACH;FMTTYPE=image/png:https://williamsonchamber.com/wp-content/uploads/2023/01/2023-Eventbrite-logo.png
ORGANIZER;CN="Franklin Tomorrow Inc.":MAILTO:mindy@franklintomorrow.org
END:VEVENT
END:VCALENDAR