BEGIN:VCALENDAR
VERSION:2.0
PRODID:-//Williamson, Inc. - ECPv6.15.18//NONSGML v1.0//EN
CALSCALE:GREGORIAN
METHOD:PUBLISH
X-ORIGINAL-URL:https://williamsonchamber.com
X-WR-CALDESC:Events for Williamson, Inc.
REFRESH-INTERVAL;VALUE=DURATION:PT1H
X-Robots-Tag:noindex
X-PUBLISHED-TTL:PT1H
BEGIN:VTIMEZONE
TZID:America/Chicago
BEGIN:DAYLIGHT
TZOFFSETFROM:-0600
TZOFFSETTO:-0500
TZNAME:CDT
DTSTART:20220313T080000
END:DAYLIGHT
BEGIN:STANDARD
TZOFFSETFROM:-0500
TZOFFSETTO:-0600
TZNAME:CST
DTSTART:20221106T070000
END:STANDARD
BEGIN:DAYLIGHT
TZOFFSETFROM:-0600
TZOFFSETTO:-0500
TZNAME:CDT
DTSTART:20230312T080000
END:DAYLIGHT
BEGIN:STANDARD
TZOFFSETFROM:-0500
TZOFFSETTO:-0600
TZNAME:CST
DTSTART:20231105T070000
END:STANDARD
BEGIN:DAYLIGHT
TZOFFSETFROM:-0600
TZOFFSETTO:-0500
TZNAME:CDT
DTSTART:20240310T080000
END:DAYLIGHT
BEGIN:STANDARD
TZOFFSETFROM:-0500
TZOFFSETTO:-0600
TZNAME:CST
DTSTART:20241103T070000
END:STANDARD
END:VTIMEZONE
BEGIN:VEVENT
DTSTART;TZID=America/Chicago:20230806T100000
DTEND;TZID=America/Chicago:20230806T220000
DTSTAMP:20260425T113157
CREATED:20230711T204246Z
LAST-MODIFIED:20230711T204546Z
UID:10000315-1691316000-1691359200@williamsonchamber.com
SUMMARY:Tennessee International Indie Film Festival
DESCRIPTION:We showcase the best of global independent cinema! As a premier destination for both emerging and established filmmakers\, we strive to celebrate and foster creativity\, diversity\, and innovation in the film industry.\nWhat sets us apart? We are a dynamic platform that bridges the gap between visionary filmmakers and enthusiastic audiences. Our festival serves as a catalyst for artistic exchange\, encouraging dialogue\, collaboration\, and networking opportunities within the independent film community.
URL:https://williamsonchamber.com/member-event/tennessee-international-indie-film-festival/2023-08-06/
LOCATION:Franklin Theater
ATTACH;FMTTYPE=image/jpeg:https://williamsonchamber.com/wp-content/uploads/2023/07/TIIFF.jpg
ORGANIZER;CN="Nancy Puetz":MAILTO:festivaldirector@tiiff.org
END:VEVENT
BEGIN:VEVENT
DTSTART;TZID=America/Chicago:20230805T083000
DTEND;TZID=America/Chicago:20230805T230000
DTSTAMP:20260425T113157
CREATED:20230711T204246Z
LAST-MODIFIED:20230711T204546Z
UID:10000314-1691224200-1691276400@williamsonchamber.com
SUMMARY:Tennessee International Indie Film Festival
DESCRIPTION:We showcase the best of global independent cinema! As a premier destination for both emerging and established filmmakers\, we strive to celebrate and foster creativity\, diversity\, and innovation in the film industry.\nWhat sets us apart? We are a dynamic platform that bridges the gap between visionary filmmakers and enthusiastic audiences. Our festival serves as a catalyst for artistic exchange\, encouraging dialogue\, collaboration\, and networking opportunities within the independent film community.
URL:https://williamsonchamber.com/member-event/tennessee-international-indie-film-festival/2023-08-05/
LOCATION:Franklin Theater
ATTACH;FMTTYPE=image/jpeg:https://williamsonchamber.com/wp-content/uploads/2023/07/TIIFF.jpg
ORGANIZER;CN="Nancy Puetz":MAILTO:festivaldirector@tiiff.org
END:VEVENT
BEGIN:VEVENT
DTSTART;TZID=America/Chicago:20230804T103000
DTEND;TZID=America/Chicago:20230804T230000
DTSTAMP:20260425T113157
CREATED:20230711T204246Z
LAST-MODIFIED:20230711T204546Z
UID:10000313-1691145000-1691190000@williamsonchamber.com
SUMMARY:Tennessee International Indie Film Festival
DESCRIPTION:We showcase the best of global independent cinema! As a premier destination for both emerging and established filmmakers\, we strive to celebrate and foster creativity\, diversity\, and innovation in the film industry.\nWhat sets us apart? We are a dynamic platform that bridges the gap between visionary filmmakers and enthusiastic audiences. Our festival serves as a catalyst for artistic exchange\, encouraging dialogue\, collaboration\, and networking opportunities within the independent film community.
URL:https://williamsonchamber.com/member-event/tennessee-international-indie-film-festival/2023-08-04/
LOCATION:Franklin Theater
ATTACH;FMTTYPE=image/jpeg:https://williamsonchamber.com/wp-content/uploads/2023/07/TIIFF.jpg
ORGANIZER;CN="Nancy Puetz":MAILTO:festivaldirector@tiiff.org
END:VEVENT
BEGIN:VEVENT
DTSTART;TZID=America/Chicago:20230803T110000
DTEND;TZID=America/Chicago:20230803T230000
DTSTAMP:20260425T113157
CREATED:20230711T204246Z
LAST-MODIFIED:20230711T204546Z
UID:10000312-1691060400-1691103600@williamsonchamber.com
SUMMARY:Tennessee International Indie Film Festival
DESCRIPTION:We showcase the best of global independent cinema! As a premier destination for both emerging and established filmmakers\, we strive to celebrate and foster creativity\, diversity\, and innovation in the film industry.\nWhat sets us apart? We are a dynamic platform that bridges the gap between visionary filmmakers and enthusiastic audiences. Our festival serves as a catalyst for artistic exchange\, encouraging dialogue\, collaboration\, and networking opportunities within the independent film community.
URL:https://williamsonchamber.com/member-event/tennessee-international-indie-film-festival/2023-08-03/
LOCATION:Franklin Theater
ATTACH;FMTTYPE=image/jpeg:https://williamsonchamber.com/wp-content/uploads/2023/07/TIIFF.jpg
ORGANIZER;CN="Nancy Puetz":MAILTO:festivaldirector@tiiff.org
END:VEVENT
BEGIN:VEVENT
DTSTART;TZID=America/Chicago:20230802T110000
DTEND;TZID=America/Chicago:20230802T230000
DTSTAMP:20260425T113157
CREATED:20230711T204246Z
LAST-MODIFIED:20230711T204546Z
UID:10000311-1690974000-1691017200@williamsonchamber.com
SUMMARY:Tennessee International Indie Film Festival
DESCRIPTION:We showcase the best of global independent cinema! As a premier destination for both emerging and established filmmakers\, we strive to celebrate and foster creativity\, diversity\, and innovation in the film industry.\nWhat sets us apart? We are a dynamic platform that bridges the gap between visionary filmmakers and enthusiastic audiences. Our festival serves as a catalyst for artistic exchange\, encouraging dialogue\, collaboration\, and networking opportunities within the independent film community.
URL:https://williamsonchamber.com/member-event/tennessee-international-indie-film-festival/2023-08-02/
LOCATION:Franklin Theater
ATTACH;FMTTYPE=image/jpeg:https://williamsonchamber.com/wp-content/uploads/2023/07/TIIFF.jpg
ORGANIZER;CN="Nancy Puetz":MAILTO:festivaldirector@tiiff.org
END:VEVENT
BEGIN:VEVENT
DTSTART;TZID=America/Chicago:20230801T170000
DTEND;TZID=America/Chicago:20230801T230000
DTSTAMP:20260425T113157
CREATED:20230711T204246Z
LAST-MODIFIED:20230711T204546Z
UID:10000310-1690909200-1690930800@williamsonchamber.com
SUMMARY:Tennessee International Indie Film Festival
DESCRIPTION:We showcase the best of global independent cinema! As a premier destination for both emerging and established filmmakers\, we strive to celebrate and foster creativity\, diversity\, and innovation in the film industry.\nWhat sets us apart? We are a dynamic platform that bridges the gap between visionary filmmakers and enthusiastic audiences. Our festival serves as a catalyst for artistic exchange\, encouraging dialogue\, collaboration\, and networking opportunities within the independent film community.
URL:https://williamsonchamber.com/member-event/tennessee-international-indie-film-festival/2023-08-01/
LOCATION:Franklin Theater
ATTACH;FMTTYPE=image/jpeg:https://williamsonchamber.com/wp-content/uploads/2023/07/TIIFF.jpg
ORGANIZER;CN="Nancy Puetz":MAILTO:festivaldirector@tiiff.org
END:VEVENT
END:VCALENDAR