BEGIN:VCALENDAR
VERSION:2.0
PRODID:-//Williamson, Inc. - ECPv6.15.18//NONSGML v1.0//EN
CALSCALE:GREGORIAN
METHOD:PUBLISH
X-WR-CALNAME:Williamson, Inc.
X-ORIGINAL-URL:https://williamsonchamber.com
X-WR-CALDESC:Events for Williamson, Inc.
REFRESH-INTERVAL;VALUE=DURATION:PT1H
X-Robots-Tag:noindex
X-PUBLISHED-TTL:PT1H
BEGIN:VTIMEZONE
TZID:America/Chicago
BEGIN:DAYLIGHT
TZOFFSETFROM:-0600
TZOFFSETTO:-0500
TZNAME:CDT
DTSTART:20220313T080000
END:DAYLIGHT
BEGIN:STANDARD
TZOFFSETFROM:-0500
TZOFFSETTO:-0600
TZNAME:CST
DTSTART:20221106T070000
END:STANDARD
BEGIN:DAYLIGHT
TZOFFSETFROM:-0600
TZOFFSETTO:-0500
TZNAME:CDT
DTSTART:20230312T080000
END:DAYLIGHT
BEGIN:STANDARD
TZOFFSETFROM:-0500
TZOFFSETTO:-0600
TZNAME:CST
DTSTART:20231105T070000
END:STANDARD
BEGIN:DAYLIGHT
TZOFFSETFROM:-0600
TZOFFSETTO:-0500
TZNAME:CDT
DTSTART:20240310T080000
END:DAYLIGHT
BEGIN:STANDARD
TZOFFSETFROM:-0500
TZOFFSETTO:-0600
TZNAME:CST
DTSTART:20241103T070000
END:STANDARD
END:VTIMEZONE
BEGIN:VEVENT
DTSTART;TZID=America/Chicago:20230727T100000
DTEND;TZID=America/Chicago:20230806T180000
DTSTAMP:20260424T210226
CREATED:20230726T204658Z
LAST-MODIFIED:20230726T204658Z
UID:10000322-1690452000-1691344800@williamsonchamber.com
SUMMARY:Annual Warehouse Sale | Up to 80% off
DESCRIPTION:DESIGNER FURNITURE\, CASEGOODS AND MORE UP TO 80% OFF \nIt’s that time of year again! The annual warehouse sale has arrived at Stock & Trade Design Company\, and this year we’re excited to announce that it will be held at our Brentwood location July 27th – August 6th. \nFor 10 days only\, we’re offering up to 80% off on closeouts\, overstocked items\, designer furniture\, lighting\, outdoor pieces\, and accessories. With over 1000 items on sale\, this is the perfect opportunity to upgrade your living space without breaking the bank.
URL:https://williamsonchamber.com/member-event/annual-warehouse-sale-up-to-80-off/
LOCATION:330 Franklin Rd Suite 160A\, Brentwood\, TN 37027\, 330 Franklin Rd Suite 160A\, Brentwood\, 37027
ATTACH;FMTTYPE=image/png:https://williamsonchamber.com/wp-content/uploads/2023/07/ANNUAL-WAREHOUSE-SALE-9.png
ORGANIZER;CN="Stock &amp%3B Trade Design Co.":MAILTO:veronica.deveau@stockandtrade.com
END:VEVENT
END:VCALENDAR