BEGIN:VCALENDAR
VERSION:2.0
PRODID:-//Williamson, Inc. - ECPv6.15.18//NONSGML v1.0//EN
CALSCALE:GREGORIAN
METHOD:PUBLISH
X-ORIGINAL-URL:https://williamsonchamber.com
X-WR-CALDESC:Events for Williamson, Inc.
REFRESH-INTERVAL;VALUE=DURATION:PT1H
X-Robots-Tag:noindex
X-PUBLISHED-TTL:PT1H
BEGIN:VTIMEZONE
TZID:America/Chicago
BEGIN:DAYLIGHT
TZOFFSETFROM:-0600
TZOFFSETTO:-0500
TZNAME:CDT
DTSTART:20220313T080000
END:DAYLIGHT
BEGIN:STANDARD
TZOFFSETFROM:-0500
TZOFFSETTO:-0600
TZNAME:CST
DTSTART:20221106T070000
END:STANDARD
BEGIN:DAYLIGHT
TZOFFSETFROM:-0600
TZOFFSETTO:-0500
TZNAME:CDT
DTSTART:20230312T080000
END:DAYLIGHT
BEGIN:STANDARD
TZOFFSETFROM:-0500
TZOFFSETTO:-0600
TZNAME:CST
DTSTART:20231105T070000
END:STANDARD
BEGIN:DAYLIGHT
TZOFFSETFROM:-0600
TZOFFSETTO:-0500
TZNAME:CDT
DTSTART:20240310T080000
END:DAYLIGHT
BEGIN:STANDARD
TZOFFSETFROM:-0500
TZOFFSETTO:-0600
TZNAME:CST
DTSTART:20241103T070000
END:STANDARD
END:VTIMEZONE
BEGIN:VEVENT
DTSTART;TZID=America/Chicago:20231104T153000
DTEND;TZID=America/Chicago:20231104T170000
DTSTAMP:20260424T203627
CREATED:20231030T165150Z
LAST-MODIFIED:20231030T165150Z
UID:10000606-1699111800-1699117200@williamsonchamber.com
SUMMARY:Mother/Son Dance
DESCRIPTION:Join us for a night of building memories at our Mother/Son Lego dance! Our event will be held on Saturday\, November 4th in two sessions from 3:30-5:00 pm and 6:30-8:00 pm at the Enrichment Center. Don’t miss out on the fun\, and create memories that will last forever! Grab your tickets now! Light refreshments will be provided. \nFor more information\, please contact Evan Smith at evan.smith@williamsoncounty-tn.gov. \nNovember 4th\, 2023\nEnrichment Center\nAges: 5-12 years old\nCost: $30.00 (any additional boys are $15.00)
URL:https://williamsonchamber.com/member-event/mother-son-dance/2023-11-04/1/
LOCATION:Williamson County Enrichment Center\, 110 Everbright Ave\, Franklin\, 37064
ATTACH;FMTTYPE=image/png:https://williamsonchamber.com/wp-content/uploads/2023/10/enews-mother-and-son-dance.png
END:VEVENT
BEGIN:VEVENT
DTSTART;TZID=America/Chicago:20230320T090000
DTEND;TZID=America/Chicago:20230320T103000
DTSTAMP:20260424T203627
CREATED:20230308T203503Z
LAST-MODIFIED:20230308T203503Z
UID:10000111-1679302800-1679308200@williamsonchamber.com
SUMMARY:Franklin Tomorrow's FrankTalks: People to Know
DESCRIPTION:Franklin Tomorrow’s FrankTalks has a new date and location for March.\nThe event will be held on Monday\, March 20\, at the Williamson County Enrichment Center located at 110 Everbright Ave in Franklin\, TN 37064. It will begin at 9 a.m. with a coffee social and the program at 9:30 a.m.\nThe theme for this program is “People to Know”\, featuring a panel of business and community leaders who you need to know in 2023. Panelists will be announced closer to March 20\, but we promise an interesting mix of movers and shakers and interesting people.\nWe are holding the event one week later to avoid the week of Spring Break for local school districts.\nOur coffee social with Lyon Leadership Group\, McDonald’s will begin at 9 a.m.\nFrankTalks is presented monthly in partnership with Renasant Bank and Franklin Tomorrow’s sustaining partners\, Atmos Energy and Williamson Health.
URL:https://williamsonchamber.com/member-event/franklin-tomorrows-franktalks-people-know/
LOCATION:Williamson County Enrichment Center\, 110 Everbright Ave\, Franklin\, 37064
ATTACH;FMTTYPE=image/png:https://williamsonchamber.com/wp-content/uploads/2023/03/Promo-Social.png
ORGANIZER;CN="Franklin Tomorrow Inc.":MAILTO:mindy@franklintomorrow.org
END:VEVENT
BEGIN:VEVENT
DTSTART;TZID=America/Chicago:20230314T070000
DTEND;TZID=America/Chicago:20230314T090000
DTSTAMP:20260424T203627
CREATED:20230123T132040Z
LAST-MODIFIED:20230123T132218Z
UID:10000024-1678777200-1678784400@williamsonchamber.com
SUMMARY:Changing Lives by Making Waves Annual Breakfast
DESCRIPTION:Join community members and Waves\, Inc. at their Annual Fundraising Breakfast on Tuesday\, March 14\, 2023 from 7:30 a.m. until 8:30 a.m. at Williamson County Enrichment Center at Academy Park. Registration starts at 7 a.m. with the program beginning at 7:30 a.m. \nJoin other community members as Waves staff and board members share how much impact you are making and can make in the lives of those benefiting from Waves’ services. \nCome experience how you can Change Lives by Making Waves. \nWaves is celebrating 50 years of service!
URL:https://williamsonchamber.com/member-event/changing-lives-making-waves-annual-breakfast/
LOCATION:Williamson County Enrichment Center\, 110 Everbright Ave\, Franklin\, 37064
ATTACH;FMTTYPE=image/png:https://williamsonchamber.com/wp-content/uploads/2023/01/AFB-23-1080X1080.png
ORGANIZER;CN="Waves%2C Inc.":MAILTO:sdavis@wavesinc.com
END:VEVENT
END:VCALENDAR