BEGIN:VCALENDAR
VERSION:2.0
PRODID:-//Williamson, Inc. - ECPv6.15.18//NONSGML v1.0//EN
CALSCALE:GREGORIAN
METHOD:PUBLISH
X-WR-CALNAME:Williamson, Inc.
X-ORIGINAL-URL:https://williamsonchamber.com
X-WR-CALDESC:Events for Williamson, Inc.
REFRESH-INTERVAL;VALUE=DURATION:PT1H
X-Robots-Tag:noindex
X-PUBLISHED-TTL:PT1H
BEGIN:VTIMEZONE
TZID:America/Chicago
BEGIN:DAYLIGHT
TZOFFSETFROM:-0600
TZOFFSETTO:-0500
TZNAME:CDT
DTSTART:20220313T080000
END:DAYLIGHT
BEGIN:STANDARD
TZOFFSETFROM:-0500
TZOFFSETTO:-0600
TZNAME:CST
DTSTART:20221106T070000
END:STANDARD
BEGIN:DAYLIGHT
TZOFFSETFROM:-0600
TZOFFSETTO:-0500
TZNAME:CDT
DTSTART:20230312T080000
END:DAYLIGHT
BEGIN:STANDARD
TZOFFSETFROM:-0500
TZOFFSETTO:-0600
TZNAME:CST
DTSTART:20231105T070000
END:STANDARD
BEGIN:DAYLIGHT
TZOFFSETFROM:-0600
TZOFFSETTO:-0500
TZNAME:CDT
DTSTART:20240310T080000
END:DAYLIGHT
BEGIN:STANDARD
TZOFFSETFROM:-0500
TZOFFSETTO:-0600
TZNAME:CST
DTSTART:20241103T070000
END:STANDARD
END:VTIMEZONE
BEGIN:VEVENT
DTSTART;TZID=America/Chicago:20230612T090000
DTEND;TZID=America/Chicago:20230612T103000
DTSTAMP:20260423T050920
CREATED:20230524T123619Z
LAST-MODIFIED:20230524T123619Z
UID:10000273-1686560400-1686565800@williamsonchamber.com
SUMMARY:Franklin Tomorrow's FrankTalks: Historic Franklin; Along the Harpeth book launch
DESCRIPTION:This month’s FrankTalks lecture will feature author Jay Sheridan and photographer Robin Hood\, who will discuss their upcoming book\, Historic Franklin: Along the Harpeth. \nJay Sheridan\, author\, has covered interesting people and places in numerous magazines and books\, including works with Grandin Hood on Historic Franklin\, Tennessee\, West Virginia’s famous Greenbrier Resort\, Florida’s venerable Don CeSar Hotel on St. Pete Beach\, and the life and career of Mike Curb and Curb Records. As founder of Sheridan Public Relations in downtown Franklin\, he focuses his work on hospitality\, tourism and front-page issues\, and currently serves as board president for the non-profit Friends of Franklin Parks.\nRobin Hood was awarded the Pulitzer Prize for photography while a newspaper photojournalist in Chattanooga\, Tennessee. He studied painting at the University of Tennessee at Chattanooga\, which presented him the Distinguished Alumnus Award during its Centennial Celebration. Hood served as an Army lieutenant in Vietnam. He has photographed more than fifty books about American communities and institutions. \nOur coffee social with Lyon Leadership Group\, McDonald’s will begin at 9 a.m.\nFrankTalks is presented monthly in partnership with Renasant Bank and Franklin Tomorrow’s sustaining partners\, Atmos Energy and Williamson Health.
URL:https://williamsonchamber.com/member-event/franklin-tomorrows-franktalks-historic-franklin-along-harpeth-book-launch/
LOCATION:Westhaven Residents Club\, 401 Cheltenham Ave\, Franklin\, 37064
ATTACH;FMTTYPE=image/png:https://williamsonchamber.com/wp-content/uploads/2023/05/June-FrankTalks.png
ORGANIZER;CN="Franklin Tomorrow Inc.":MAILTO:mindy@franklintomorrow.org
END:VEVENT
END:VCALENDAR