BEGIN:VCALENDAR
VERSION:2.0
PRODID:-//Williamson, Inc. - ECPv6.15.18//NONSGML v1.0//EN
CALSCALE:GREGORIAN
METHOD:PUBLISH
X-ORIGINAL-URL:https://williamsonchamber.com
X-WR-CALDESC:Events for Williamson, Inc.
REFRESH-INTERVAL;VALUE=DURATION:PT1H
X-Robots-Tag:noindex
X-PUBLISHED-TTL:PT1H
BEGIN:VTIMEZONE
TZID:America/Chicago
BEGIN:DAYLIGHT
TZOFFSETFROM:-0600
TZOFFSETTO:-0500
TZNAME:CDT
DTSTART:20250309T080000
END:DAYLIGHT
BEGIN:STANDARD
TZOFFSETFROM:-0500
TZOFFSETTO:-0600
TZNAME:CST
DTSTART:20251102T070000
END:STANDARD
BEGIN:DAYLIGHT
TZOFFSETFROM:-0600
TZOFFSETTO:-0500
TZNAME:CDT
DTSTART:20260308T080000
END:DAYLIGHT
BEGIN:STANDARD
TZOFFSETFROM:-0500
TZOFFSETTO:-0600
TZNAME:CST
DTSTART:20261101T070000
END:STANDARD
BEGIN:DAYLIGHT
TZOFFSETFROM:-0600
TZOFFSETTO:-0500
TZNAME:CDT
DTSTART:20270314T080000
END:DAYLIGHT
BEGIN:STANDARD
TZOFFSETFROM:-0500
TZOFFSETTO:-0600
TZNAME:CST
DTSTART:20271107T070000
END:STANDARD
END:VTIMEZONE
BEGIN:VEVENT
DTSTART;TZID=America/Chicago:20260515T180000
DTEND;TZID=America/Chicago:20260515T203000
DTSTAMP:20260420T171933
CREATED:20260420T154001Z
LAST-MODIFIED:20260420T154001Z
UID:10003621-1778868000-1778877000@williamsonchamber.com
SUMMARY:Funny 4 Funds - Comedy Fundraiser
DESCRIPTION:Funny for Funds\, a fundraising event benefiting The Door Step Project and its mission of supporting survivors of domestic violence. \nOn May 15\, 2026\, community members and supporters will gather for an evening of comedy and connection at the Nashville-Franklin Elks Lodge #72 in Franklin. This event is designed not only to raise funds\, but also to raise awareness of the ongoing need for services that help survivors move toward safety\, healing\, and hope.\nFor more information on ticket sales or sponsorship opportunities: terryt@doorstepproject.org
URL:https://williamsonchamber.com/member-event/funny-4-funds-comedy-fundraiser/
LOCATION:Nashville-Franklin Elks Lodge #72\, 485 Oak Meadow Drive\, Frankin\, 37064
ATTACH;FMTTYPE=image/png:https://williamsonchamber.com/wp-content/uploads/2026/04/Funny-4-Funds-comedy-fundraiser-poster.png
ORGANIZER;CN="Door Step Project":MAILTO:AlyssaD@doorstepproject.org
END:VEVENT
END:VCALENDAR