BEGIN:VCALENDAR
VERSION:2.0
PRODID:-//Williamson, Inc. - ECPv6.15.18//NONSGML v1.0//EN
CALSCALE:GREGORIAN
METHOD:PUBLISH
X-WR-CALNAME:Williamson, Inc.
X-ORIGINAL-URL:https://williamsonchamber.com
X-WR-CALDESC:Events for Williamson, Inc.
REFRESH-INTERVAL;VALUE=DURATION:PT1H
X-Robots-Tag:noindex
X-PUBLISHED-TTL:PT1H
BEGIN:VTIMEZONE
TZID:America/Chicago
BEGIN:DAYLIGHT
TZOFFSETFROM:-0600
TZOFFSETTO:-0500
TZNAME:CDT
DTSTART:20220313T080000
END:DAYLIGHT
BEGIN:STANDARD
TZOFFSETFROM:-0500
TZOFFSETTO:-0600
TZNAME:CST
DTSTART:20221106T070000
END:STANDARD
BEGIN:DAYLIGHT
TZOFFSETFROM:-0600
TZOFFSETTO:-0500
TZNAME:CDT
DTSTART:20230312T080000
END:DAYLIGHT
BEGIN:STANDARD
TZOFFSETFROM:-0500
TZOFFSETTO:-0600
TZNAME:CST
DTSTART:20231105T070000
END:STANDARD
BEGIN:DAYLIGHT
TZOFFSETFROM:-0600
TZOFFSETTO:-0500
TZNAME:CDT
DTSTART:20240310T080000
END:DAYLIGHT
BEGIN:STANDARD
TZOFFSETFROM:-0500
TZOFFSETTO:-0600
TZNAME:CST
DTSTART:20241103T070000
END:STANDARD
BEGIN:DAYLIGHT
TZOFFSETFROM:-0600
TZOFFSETTO:-0500
TZNAME:CDT
DTSTART:20250309T080000
END:DAYLIGHT
BEGIN:STANDARD
TZOFFSETFROM:-0500
TZOFFSETTO:-0600
TZNAME:CST
DTSTART:20251102T070000
END:STANDARD
BEGIN:DAYLIGHT
TZOFFSETFROM:-0600
TZOFFSETTO:-0500
TZNAME:CDT
DTSTART:20260308T080000
END:DAYLIGHT
BEGIN:STANDARD
TZOFFSETFROM:-0500
TZOFFSETTO:-0600
TZNAME:CST
DTSTART:20261101T070000
END:STANDARD
BEGIN:DAYLIGHT
TZOFFSETFROM:-0600
TZOFFSETTO:-0500
TZNAME:CDT
DTSTART:20270314T080000
END:DAYLIGHT
BEGIN:STANDARD
TZOFFSETFROM:-0500
TZOFFSETTO:-0600
TZNAME:CST
DTSTART:20271107T070000
END:STANDARD
END:VTIMEZONE
BEGIN:VEVENT
DTSTART;TZID=America/Chicago:20260413T190000
DTEND;TZID=America/Chicago:20260413T203000
DTSTAMP:20260423T113329
CREATED:20230228T161028Z
LAST-MODIFIED:20230228T161028Z
UID:10000076-1776106800-1776112200@williamsonchamber.com
SUMMARY:PFLAG Franklin LGBT Support Group
DESCRIPTION:A support meeting for LGBT individuals\, their families\, friends\, and allies. Confidential gathering and all are welcome. Not a political or religious organization.
URL:https://williamsonchamber.com/member-event/pflag-franklin-lgbt-support-group/2026-04-13/
LOCATION:St. Paul’s Episcopal Church\, 501 W. Main Street\, Franklin\, TN\, 37064\, United States
ATTACH;FMTTYPE=image/jpeg:https://williamsonchamber.com/wp-content/uploads/2023/02/franklin-2000x1500-1.jpg
ORGANIZER;CN="PFLAG Franklin":MAILTO:info@pflagfranklintn.org
END:VEVENT
BEGIN:VEVENT
DTSTART;TZID=America/Chicago:20260309T190000
DTEND;TZID=America/Chicago:20260309T203000
DTSTAMP:20260423T113329
CREATED:20230228T161028Z
LAST-MODIFIED:20230228T161028Z
UID:10000075-1773082800-1773088200@williamsonchamber.com
SUMMARY:PFLAG Franklin LGBT Support Group
DESCRIPTION:A support meeting for LGBT individuals\, their families\, friends\, and allies. Confidential gathering and all are welcome. Not a political or religious organization.
URL:https://williamsonchamber.com/member-event/pflag-franklin-lgbt-support-group/2026-03-09/
LOCATION:St. Paul’s Episcopal Church\, 501 W. Main Street\, Franklin\, TN\, 37064\, United States
ATTACH;FMTTYPE=image/jpeg:https://williamsonchamber.com/wp-content/uploads/2023/02/franklin-2000x1500-1.jpg
ORGANIZER;CN="PFLAG Franklin":MAILTO:info@pflagfranklintn.org
END:VEVENT
BEGIN:VEVENT
DTSTART;TZID=America/Chicago:20260209T190000
DTEND;TZID=America/Chicago:20260209T203000
DTSTAMP:20260423T113329
CREATED:20230228T161028Z
LAST-MODIFIED:20230228T161028Z
UID:10000074-1770663600-1770669000@williamsonchamber.com
SUMMARY:PFLAG Franklin LGBT Support Group
DESCRIPTION:A support meeting for LGBT individuals\, their families\, friends\, and allies. Confidential gathering and all are welcome. Not a political or religious organization.
URL:https://williamsonchamber.com/member-event/pflag-franklin-lgbt-support-group/2026-02-09/
LOCATION:St. Paul’s Episcopal Church\, 501 W. Main Street\, Franklin\, TN\, 37064\, United States
ATTACH;FMTTYPE=image/jpeg:https://williamsonchamber.com/wp-content/uploads/2023/02/franklin-2000x1500-1.jpg
ORGANIZER;CN="PFLAG Franklin":MAILTO:info@pflagfranklintn.org
END:VEVENT
BEGIN:VEVENT
DTSTART;TZID=America/Chicago:20260112T190000
DTEND;TZID=America/Chicago:20260112T203000
DTSTAMP:20260423T113329
CREATED:20230228T161028Z
LAST-MODIFIED:20230228T161028Z
UID:10000073-1768244400-1768249800@williamsonchamber.com
SUMMARY:PFLAG Franklin LGBT Support Group
DESCRIPTION:A support meeting for LGBT individuals\, their families\, friends\, and allies. Confidential gathering and all are welcome. Not a political or religious organization.
URL:https://williamsonchamber.com/member-event/pflag-franklin-lgbt-support-group/2026-01-12/
LOCATION:St. Paul’s Episcopal Church\, 501 W. Main Street\, Franklin\, TN\, 37064\, United States
ATTACH;FMTTYPE=image/jpeg:https://williamsonchamber.com/wp-content/uploads/2023/02/franklin-2000x1500-1.jpg
ORGANIZER;CN="PFLAG Franklin":MAILTO:info@pflagfranklintn.org
END:VEVENT
BEGIN:VEVENT
DTSTART;TZID=America/Chicago:20251208T190000
DTEND;TZID=America/Chicago:20251208T203000
DTSTAMP:20260423T113329
CREATED:20230228T161028Z
LAST-MODIFIED:20230228T161028Z
UID:10000072-1765220400-1765225800@williamsonchamber.com
SUMMARY:PFLAG Franklin LGBT Support Group
DESCRIPTION:A support meeting for LGBT individuals\, their families\, friends\, and allies. Confidential gathering and all are welcome. Not a political or religious organization.
URL:https://williamsonchamber.com/member-event/pflag-franklin-lgbt-support-group/2025-12-08/
LOCATION:St. Paul’s Episcopal Church\, 501 W. Main Street\, Franklin\, TN\, 37064\, United States
ATTACH;FMTTYPE=image/jpeg:https://williamsonchamber.com/wp-content/uploads/2023/02/franklin-2000x1500-1.jpg
ORGANIZER;CN="PFLAG Franklin":MAILTO:info@pflagfranklintn.org
END:VEVENT
BEGIN:VEVENT
DTSTART;TZID=America/Chicago:20251110T190000
DTEND;TZID=America/Chicago:20251110T203000
DTSTAMP:20260423T113329
CREATED:20230228T161028Z
LAST-MODIFIED:20230228T161028Z
UID:10000071-1762801200-1762806600@williamsonchamber.com
SUMMARY:PFLAG Franklin LGBT Support Group
DESCRIPTION:A support meeting for LGBT individuals\, their families\, friends\, and allies. Confidential gathering and all are welcome. Not a political or religious organization.
URL:https://williamsonchamber.com/member-event/pflag-franklin-lgbt-support-group/2025-11-10/
LOCATION:St. Paul’s Episcopal Church\, 501 W. Main Street\, Franklin\, TN\, 37064\, United States
ATTACH;FMTTYPE=image/jpeg:https://williamsonchamber.com/wp-content/uploads/2023/02/franklin-2000x1500-1.jpg
ORGANIZER;CN="PFLAG Franklin":MAILTO:info@pflagfranklintn.org
END:VEVENT
BEGIN:VEVENT
DTSTART;TZID=America/Chicago:20251013T190000
DTEND;TZID=America/Chicago:20251013T203000
DTSTAMP:20260423T113329
CREATED:20230228T161028Z
LAST-MODIFIED:20230228T161028Z
UID:10000070-1760382000-1760387400@williamsonchamber.com
SUMMARY:PFLAG Franklin LGBT Support Group
DESCRIPTION:A support meeting for LGBT individuals\, their families\, friends\, and allies. Confidential gathering and all are welcome. Not a political or religious organization.
URL:https://williamsonchamber.com/member-event/pflag-franklin-lgbt-support-group/2025-10-13/
LOCATION:St. Paul’s Episcopal Church\, 501 W. Main Street\, Franklin\, TN\, 37064\, United States
ATTACH;FMTTYPE=image/jpeg:https://williamsonchamber.com/wp-content/uploads/2023/02/franklin-2000x1500-1.jpg
ORGANIZER;CN="PFLAG Franklin":MAILTO:info@pflagfranklintn.org
END:VEVENT
BEGIN:VEVENT
DTSTART;TZID=America/Chicago:20250908T190000
DTEND;TZID=America/Chicago:20250908T203000
DTSTAMP:20260423T113329
CREATED:20230228T161028Z
LAST-MODIFIED:20230228T161028Z
UID:10000069-1757358000-1757363400@williamsonchamber.com
SUMMARY:PFLAG Franklin LGBT Support Group
DESCRIPTION:A support meeting for LGBT individuals\, their families\, friends\, and allies. Confidential gathering and all are welcome. Not a political or religious organization.
URL:https://williamsonchamber.com/member-event/pflag-franklin-lgbt-support-group/2025-09-08/
LOCATION:St. Paul’s Episcopal Church\, 501 W. Main Street\, Franklin\, TN\, 37064\, United States
ATTACH;FMTTYPE=image/jpeg:https://williamsonchamber.com/wp-content/uploads/2023/02/franklin-2000x1500-1.jpg
ORGANIZER;CN="PFLAG Franklin":MAILTO:info@pflagfranklintn.org
END:VEVENT
BEGIN:VEVENT
DTSTART;TZID=America/Chicago:20250811T190000
DTEND;TZID=America/Chicago:20250811T203000
DTSTAMP:20260423T113329
CREATED:20230228T161028Z
LAST-MODIFIED:20230228T161028Z
UID:10000068-1754938800-1754944200@williamsonchamber.com
SUMMARY:PFLAG Franklin LGBT Support Group
DESCRIPTION:A support meeting for LGBT individuals\, their families\, friends\, and allies. Confidential gathering and all are welcome. Not a political or religious organization.
URL:https://williamsonchamber.com/member-event/pflag-franklin-lgbt-support-group/2025-08-11/
LOCATION:St. Paul’s Episcopal Church\, 501 W. Main Street\, Franklin\, TN\, 37064\, United States
ATTACH;FMTTYPE=image/jpeg:https://williamsonchamber.com/wp-content/uploads/2023/02/franklin-2000x1500-1.jpg
ORGANIZER;CN="PFLAG Franklin":MAILTO:info@pflagfranklintn.org
END:VEVENT
BEGIN:VEVENT
DTSTART;TZID=America/Chicago:20250714T190000
DTEND;TZID=America/Chicago:20250714T203000
DTSTAMP:20260423T113329
CREATED:20230228T161028Z
LAST-MODIFIED:20230228T161028Z
UID:10000067-1752519600-1752525000@williamsonchamber.com
SUMMARY:PFLAG Franklin LGBT Support Group
DESCRIPTION:A support meeting for LGBT individuals\, their families\, friends\, and allies. Confidential gathering and all are welcome. Not a political or religious organization.
URL:https://williamsonchamber.com/member-event/pflag-franklin-lgbt-support-group/2025-07-14/
LOCATION:St. Paul’s Episcopal Church\, 501 W. Main Street\, Franklin\, TN\, 37064\, United States
ATTACH;FMTTYPE=image/jpeg:https://williamsonchamber.com/wp-content/uploads/2023/02/franklin-2000x1500-1.jpg
ORGANIZER;CN="PFLAG Franklin":MAILTO:info@pflagfranklintn.org
END:VEVENT
BEGIN:VEVENT
DTSTART;TZID=America/Chicago:20250609T190000
DTEND;TZID=America/Chicago:20250609T203000
DTSTAMP:20260423T113329
CREATED:20230228T161028Z
LAST-MODIFIED:20230228T161028Z
UID:10000066-1749495600-1749501000@williamsonchamber.com
SUMMARY:PFLAG Franklin LGBT Support Group
DESCRIPTION:A support meeting for LGBT individuals\, their families\, friends\, and allies. Confidential gathering and all are welcome. Not a political or religious organization.
URL:https://williamsonchamber.com/member-event/pflag-franklin-lgbt-support-group/2025-06-09/
LOCATION:St. Paul’s Episcopal Church\, 501 W. Main Street\, Franklin\, TN\, 37064\, United States
ATTACH;FMTTYPE=image/jpeg:https://williamsonchamber.com/wp-content/uploads/2023/02/franklin-2000x1500-1.jpg
ORGANIZER;CN="PFLAG Franklin":MAILTO:info@pflagfranklintn.org
END:VEVENT
BEGIN:VEVENT
DTSTART;TZID=America/Chicago:20250512T190000
DTEND;TZID=America/Chicago:20250512T203000
DTSTAMP:20260423T113329
CREATED:20230228T161028Z
LAST-MODIFIED:20230228T161028Z
UID:10000065-1747076400-1747081800@williamsonchamber.com
SUMMARY:PFLAG Franklin LGBT Support Group
DESCRIPTION:A support meeting for LGBT individuals\, their families\, friends\, and allies. Confidential gathering and all are welcome. Not a political or religious organization.
URL:https://williamsonchamber.com/member-event/pflag-franklin-lgbt-support-group/2025-05-12/
LOCATION:St. Paul’s Episcopal Church\, 501 W. Main Street\, Franklin\, TN\, 37064\, United States
ATTACH;FMTTYPE=image/jpeg:https://williamsonchamber.com/wp-content/uploads/2023/02/franklin-2000x1500-1.jpg
ORGANIZER;CN="PFLAG Franklin":MAILTO:info@pflagfranklintn.org
END:VEVENT
BEGIN:VEVENT
DTSTART;TZID=America/Chicago:20250414T190000
DTEND;TZID=America/Chicago:20250414T203000
DTSTAMP:20260423T113329
CREATED:20230228T161028Z
LAST-MODIFIED:20230228T161028Z
UID:10000064-1744657200-1744662600@williamsonchamber.com
SUMMARY:PFLAG Franklin LGBT Support Group
DESCRIPTION:A support meeting for LGBT individuals\, their families\, friends\, and allies. Confidential gathering and all are welcome. Not a political or religious organization.
URL:https://williamsonchamber.com/member-event/pflag-franklin-lgbt-support-group/2025-04-14/
LOCATION:St. Paul’s Episcopal Church\, 501 W. Main Street\, Franklin\, TN\, 37064\, United States
ATTACH;FMTTYPE=image/jpeg:https://williamsonchamber.com/wp-content/uploads/2023/02/franklin-2000x1500-1.jpg
ORGANIZER;CN="PFLAG Franklin":MAILTO:info@pflagfranklintn.org
END:VEVENT
BEGIN:VEVENT
DTSTART;TZID=America/Chicago:20250310T190000
DTEND;TZID=America/Chicago:20250310T203000
DTSTAMP:20260423T113329
CREATED:20230228T161028Z
LAST-MODIFIED:20230228T161028Z
UID:10000063-1741633200-1741638600@williamsonchamber.com
SUMMARY:PFLAG Franklin LGBT Support Group
DESCRIPTION:A support meeting for LGBT individuals\, their families\, friends\, and allies. Confidential gathering and all are welcome. Not a political or religious organization.
URL:https://williamsonchamber.com/member-event/pflag-franklin-lgbt-support-group/2025-03-10/
LOCATION:St. Paul’s Episcopal Church\, 501 W. Main Street\, Franklin\, TN\, 37064\, United States
ATTACH;FMTTYPE=image/jpeg:https://williamsonchamber.com/wp-content/uploads/2023/02/franklin-2000x1500-1.jpg
ORGANIZER;CN="PFLAG Franklin":MAILTO:info@pflagfranklintn.org
END:VEVENT
BEGIN:VEVENT
DTSTART;TZID=America/Chicago:20250210T190000
DTEND;TZID=America/Chicago:20250210T203000
DTSTAMP:20260423T113329
CREATED:20230228T161028Z
LAST-MODIFIED:20230228T161028Z
UID:10000062-1739214000-1739219400@williamsonchamber.com
SUMMARY:PFLAG Franklin LGBT Support Group
DESCRIPTION:A support meeting for LGBT individuals\, their families\, friends\, and allies. Confidential gathering and all are welcome. Not a political or religious organization.
URL:https://williamsonchamber.com/member-event/pflag-franklin-lgbt-support-group/2025-02-10/
LOCATION:St. Paul’s Episcopal Church\, 501 W. Main Street\, Franklin\, TN\, 37064\, United States
ATTACH;FMTTYPE=image/jpeg:https://williamsonchamber.com/wp-content/uploads/2023/02/franklin-2000x1500-1.jpg
ORGANIZER;CN="PFLAG Franklin":MAILTO:info@pflagfranklintn.org
END:VEVENT
BEGIN:VEVENT
DTSTART;TZID=America/Chicago:20250113T190000
DTEND;TZID=America/Chicago:20250113T203000
DTSTAMP:20260423T113329
CREATED:20230228T161028Z
LAST-MODIFIED:20230228T161028Z
UID:10000061-1736794800-1736800200@williamsonchamber.com
SUMMARY:PFLAG Franklin LGBT Support Group
DESCRIPTION:A support meeting for LGBT individuals\, their families\, friends\, and allies. Confidential gathering and all are welcome. Not a political or religious organization.
URL:https://williamsonchamber.com/member-event/pflag-franklin-lgbt-support-group/2025-01-13/
LOCATION:St. Paul’s Episcopal Church\, 501 W. Main Street\, Franklin\, TN\, 37064\, United States
ATTACH;FMTTYPE=image/jpeg:https://williamsonchamber.com/wp-content/uploads/2023/02/franklin-2000x1500-1.jpg
ORGANIZER;CN="PFLAG Franklin":MAILTO:info@pflagfranklintn.org
END:VEVENT
BEGIN:VEVENT
DTSTART;TZID=America/Chicago:20241209T190000
DTEND;TZID=America/Chicago:20241209T203000
DTSTAMP:20260423T113329
CREATED:20230228T161028Z
LAST-MODIFIED:20230228T161028Z
UID:10000060-1733770800-1733776200@williamsonchamber.com
SUMMARY:PFLAG Franklin LGBT Support Group
DESCRIPTION:A support meeting for LGBT individuals\, their families\, friends\, and allies. Confidential gathering and all are welcome. Not a political or religious organization.
URL:https://williamsonchamber.com/member-event/pflag-franklin-lgbt-support-group/2024-12-09/
LOCATION:St. Paul’s Episcopal Church\, 501 W. Main Street\, Franklin\, TN\, 37064\, United States
ATTACH;FMTTYPE=image/jpeg:https://williamsonchamber.com/wp-content/uploads/2023/02/franklin-2000x1500-1.jpg
ORGANIZER;CN="PFLAG Franklin":MAILTO:info@pflagfranklintn.org
END:VEVENT
BEGIN:VEVENT
DTSTART;TZID=America/Chicago:20241111T190000
DTEND;TZID=America/Chicago:20241111T203000
DTSTAMP:20260423T113329
CREATED:20230228T161028Z
LAST-MODIFIED:20230228T161028Z
UID:10000059-1731351600-1731357000@williamsonchamber.com
SUMMARY:PFLAG Franklin LGBT Support Group
DESCRIPTION:A support meeting for LGBT individuals\, their families\, friends\, and allies. Confidential gathering and all are welcome. Not a political or religious organization.
URL:https://williamsonchamber.com/member-event/pflag-franklin-lgbt-support-group/2024-11-11/
LOCATION:St. Paul’s Episcopal Church\, 501 W. Main Street\, Franklin\, TN\, 37064\, United States
ATTACH;FMTTYPE=image/jpeg:https://williamsonchamber.com/wp-content/uploads/2023/02/franklin-2000x1500-1.jpg
ORGANIZER;CN="PFLAG Franklin":MAILTO:info@pflagfranklintn.org
END:VEVENT
BEGIN:VEVENT
DTSTART;TZID=America/Chicago:20241014T190000
DTEND;TZID=America/Chicago:20241014T203000
DTSTAMP:20260423T113329
CREATED:20230228T161028Z
LAST-MODIFIED:20230228T161028Z
UID:10000058-1728932400-1728937800@williamsonchamber.com
SUMMARY:PFLAG Franklin LGBT Support Group
DESCRIPTION:A support meeting for LGBT individuals\, their families\, friends\, and allies. Confidential gathering and all are welcome. Not a political or religious organization.
URL:https://williamsonchamber.com/member-event/pflag-franklin-lgbt-support-group/2024-10-14/
LOCATION:St. Paul’s Episcopal Church\, 501 W. Main Street\, Franklin\, TN\, 37064\, United States
ATTACH;FMTTYPE=image/jpeg:https://williamsonchamber.com/wp-content/uploads/2023/02/franklin-2000x1500-1.jpg
ORGANIZER;CN="PFLAG Franklin":MAILTO:info@pflagfranklintn.org
END:VEVENT
BEGIN:VEVENT
DTSTART;TZID=America/Chicago:20240909T190000
DTEND;TZID=America/Chicago:20240909T203000
DTSTAMP:20260423T113329
CREATED:20230228T161028Z
LAST-MODIFIED:20230228T161028Z
UID:10000057-1725908400-1725913800@williamsonchamber.com
SUMMARY:PFLAG Franklin LGBT Support Group
DESCRIPTION:A support meeting for LGBT individuals\, their families\, friends\, and allies. Confidential gathering and all are welcome. Not a political or religious organization.
URL:https://williamsonchamber.com/member-event/pflag-franklin-lgbt-support-group/2024-09-09/
LOCATION:St. Paul’s Episcopal Church\, 501 W. Main Street\, Franklin\, TN\, 37064\, United States
ATTACH;FMTTYPE=image/jpeg:https://williamsonchamber.com/wp-content/uploads/2023/02/franklin-2000x1500-1.jpg
ORGANIZER;CN="PFLAG Franklin":MAILTO:info@pflagfranklintn.org
END:VEVENT
BEGIN:VEVENT
DTSTART;TZID=America/Chicago:20240812T190000
DTEND;TZID=America/Chicago:20240812T203000
DTSTAMP:20260423T113329
CREATED:20230228T161028Z
LAST-MODIFIED:20230228T161028Z
UID:10000056-1723489200-1723494600@williamsonchamber.com
SUMMARY:PFLAG Franklin LGBT Support Group
DESCRIPTION:A support meeting for LGBT individuals\, their families\, friends\, and allies. Confidential gathering and all are welcome. Not a political or religious organization.
URL:https://williamsonchamber.com/member-event/pflag-franklin-lgbt-support-group/2024-08-12/
LOCATION:St. Paul’s Episcopal Church\, 501 W. Main Street\, Franklin\, TN\, 37064\, United States
ATTACH;FMTTYPE=image/jpeg:https://williamsonchamber.com/wp-content/uploads/2023/02/franklin-2000x1500-1.jpg
ORGANIZER;CN="PFLAG Franklin":MAILTO:info@pflagfranklintn.org
END:VEVENT
BEGIN:VEVENT
DTSTART;TZID=America/Chicago:20240708T190000
DTEND;TZID=America/Chicago:20240708T203000
DTSTAMP:20260423T113329
CREATED:20230228T161028Z
LAST-MODIFIED:20230228T161028Z
UID:10000055-1720465200-1720470600@williamsonchamber.com
SUMMARY:PFLAG Franklin LGBT Support Group
DESCRIPTION:A support meeting for LGBT individuals\, their families\, friends\, and allies. Confidential gathering and all are welcome. Not a political or religious organization.
URL:https://williamsonchamber.com/member-event/pflag-franklin-lgbt-support-group/2024-07-08/
LOCATION:St. Paul’s Episcopal Church\, 501 W. Main Street\, Franklin\, TN\, 37064\, United States
ATTACH;FMTTYPE=image/jpeg:https://williamsonchamber.com/wp-content/uploads/2023/02/franklin-2000x1500-1.jpg
ORGANIZER;CN="PFLAG Franklin":MAILTO:info@pflagfranklintn.org
END:VEVENT
BEGIN:VEVENT
DTSTART;TZID=America/Chicago:20240610T190000
DTEND;TZID=America/Chicago:20240610T203000
DTSTAMP:20260423T113329
CREATED:20230228T161028Z
LAST-MODIFIED:20230228T161028Z
UID:10000054-1718046000-1718051400@williamsonchamber.com
SUMMARY:PFLAG Franklin LGBT Support Group
DESCRIPTION:A support meeting for LGBT individuals\, their families\, friends\, and allies. Confidential gathering and all are welcome. Not a political or religious organization.
URL:https://williamsonchamber.com/member-event/pflag-franklin-lgbt-support-group/2024-06-10/
LOCATION:St. Paul’s Episcopal Church\, 501 W. Main Street\, Franklin\, TN\, 37064\, United States
ATTACH;FMTTYPE=image/jpeg:https://williamsonchamber.com/wp-content/uploads/2023/02/franklin-2000x1500-1.jpg
ORGANIZER;CN="PFLAG Franklin":MAILTO:info@pflagfranklintn.org
END:VEVENT
BEGIN:VEVENT
DTSTART;TZID=America/Chicago:20240513T190000
DTEND;TZID=America/Chicago:20240513T203000
DTSTAMP:20260423T113329
CREATED:20230228T161028Z
LAST-MODIFIED:20230228T161028Z
UID:10000053-1715626800-1715632200@williamsonchamber.com
SUMMARY:PFLAG Franklin LGBT Support Group
DESCRIPTION:A support meeting for LGBT individuals\, their families\, friends\, and allies. Confidential gathering and all are welcome. Not a political or religious organization.
URL:https://williamsonchamber.com/member-event/pflag-franklin-lgbt-support-group/2024-05-13/
LOCATION:St. Paul’s Episcopal Church\, 501 W. Main Street\, Franklin\, TN\, 37064\, United States
ATTACH;FMTTYPE=image/jpeg:https://williamsonchamber.com/wp-content/uploads/2023/02/franklin-2000x1500-1.jpg
ORGANIZER;CN="PFLAG Franklin":MAILTO:info@pflagfranklintn.org
END:VEVENT
BEGIN:VEVENT
DTSTART;TZID=America/Chicago:20240408T190000
DTEND;TZID=America/Chicago:20240408T203000
DTSTAMP:20260423T113329
CREATED:20230228T161028Z
LAST-MODIFIED:20230228T161028Z
UID:10000052-1712602800-1712608200@williamsonchamber.com
SUMMARY:PFLAG Franklin LGBT Support Group
DESCRIPTION:A support meeting for LGBT individuals\, their families\, friends\, and allies. Confidential gathering and all are welcome. Not a political or religious organization.
URL:https://williamsonchamber.com/member-event/pflag-franklin-lgbt-support-group/2024-04-08/
LOCATION:St. Paul’s Episcopal Church\, 501 W. Main Street\, Franklin\, TN\, 37064\, United States
ATTACH;FMTTYPE=image/jpeg:https://williamsonchamber.com/wp-content/uploads/2023/02/franklin-2000x1500-1.jpg
ORGANIZER;CN="PFLAG Franklin":MAILTO:info@pflagfranklintn.org
END:VEVENT
BEGIN:VEVENT
DTSTART;TZID=America/Chicago:20240311T190000
DTEND;TZID=America/Chicago:20240311T203000
DTSTAMP:20260423T113329
CREATED:20230228T161028Z
LAST-MODIFIED:20230228T161028Z
UID:10000051-1710183600-1710189000@williamsonchamber.com
SUMMARY:PFLAG Franklin LGBT Support Group
DESCRIPTION:A support meeting for LGBT individuals\, their families\, friends\, and allies. Confidential gathering and all are welcome. Not a political or religious organization.
URL:https://williamsonchamber.com/member-event/pflag-franklin-lgbt-support-group/2024-03-11/
LOCATION:St. Paul’s Episcopal Church\, 501 W. Main Street\, Franklin\, TN\, 37064\, United States
ATTACH;FMTTYPE=image/jpeg:https://williamsonchamber.com/wp-content/uploads/2023/02/franklin-2000x1500-1.jpg
ORGANIZER;CN="PFLAG Franklin":MAILTO:info@pflagfranklintn.org
END:VEVENT
BEGIN:VEVENT
DTSTART;TZID=America/Chicago:20240212T190000
DTEND;TZID=America/Chicago:20240212T203000
DTSTAMP:20260423T113329
CREATED:20230228T161028Z
LAST-MODIFIED:20230228T161028Z
UID:10000050-1707764400-1707769800@williamsonchamber.com
SUMMARY:PFLAG Franklin LGBT Support Group
DESCRIPTION:A support meeting for LGBT individuals\, their families\, friends\, and allies. Confidential gathering and all are welcome. Not a political or religious organization.
URL:https://williamsonchamber.com/member-event/pflag-franklin-lgbt-support-group/2024-02-12/
LOCATION:St. Paul’s Episcopal Church\, 501 W. Main Street\, Franklin\, TN\, 37064\, United States
ATTACH;FMTTYPE=image/jpeg:https://williamsonchamber.com/wp-content/uploads/2023/02/franklin-2000x1500-1.jpg
ORGANIZER;CN="PFLAG Franklin":MAILTO:info@pflagfranklintn.org
END:VEVENT
BEGIN:VEVENT
DTSTART;TZID=America/Chicago:20240108T190000
DTEND;TZID=America/Chicago:20240108T203000
DTSTAMP:20260423T113329
CREATED:20230228T161028Z
LAST-MODIFIED:20230228T161028Z
UID:10000049-1704740400-1704745800@williamsonchamber.com
SUMMARY:PFLAG Franklin LGBT Support Group
DESCRIPTION:A support meeting for LGBT individuals\, their families\, friends\, and allies. Confidential gathering and all are welcome. Not a political or religious organization.
URL:https://williamsonchamber.com/member-event/pflag-franklin-lgbt-support-group/2024-01-08/
LOCATION:St. Paul’s Episcopal Church\, 501 W. Main Street\, Franklin\, TN\, 37064\, United States
ATTACH;FMTTYPE=image/jpeg:https://williamsonchamber.com/wp-content/uploads/2023/02/franklin-2000x1500-1.jpg
ORGANIZER;CN="PFLAG Franklin":MAILTO:info@pflagfranklintn.org
END:VEVENT
BEGIN:VEVENT
DTSTART;TZID=America/Chicago:20231113T190000
DTEND;TZID=America/Chicago:20231113T203000
DTSTAMP:20260423T113329
CREATED:20230228T161028Z
LAST-MODIFIED:20230228T161028Z
UID:10000048-1699902000-1699907400@williamsonchamber.com
SUMMARY:PFLAG Franklin LGBT Support Group
DESCRIPTION:A support meeting for LGBT individuals\, their families\, friends\, and allies. Confidential gathering and all are welcome. Not a political or religious organization.
URL:https://williamsonchamber.com/member-event/pflag-franklin-lgbt-support-group/2023-11-13/
LOCATION:St. Paul’s Episcopal Church\, 501 W. Main Street\, Franklin\, TN\, 37064\, United States
ATTACH;FMTTYPE=image/jpeg:https://williamsonchamber.com/wp-content/uploads/2023/02/franklin-2000x1500-1.jpg
ORGANIZER;CN="PFLAG Franklin":MAILTO:info@pflagfranklintn.org
END:VEVENT
BEGIN:VEVENT
DTSTART;TZID=America/Chicago:20231009T190000
DTEND;TZID=America/Chicago:20231009T203000
DTSTAMP:20260423T113329
CREATED:20230228T161028Z
LAST-MODIFIED:20230228T161028Z
UID:10000047-1696878000-1696883400@williamsonchamber.com
SUMMARY:PFLAG Franklin LGBT Support Group
DESCRIPTION:A support meeting for LGBT individuals\, their families\, friends\, and allies. Confidential gathering and all are welcome. Not a political or religious organization.
URL:https://williamsonchamber.com/member-event/pflag-franklin-lgbt-support-group/2023-10-09/
LOCATION:St. Paul’s Episcopal Church\, 501 W. Main Street\, Franklin\, TN\, 37064\, United States
ATTACH;FMTTYPE=image/jpeg:https://williamsonchamber.com/wp-content/uploads/2023/02/franklin-2000x1500-1.jpg
ORGANIZER;CN="PFLAG Franklin":MAILTO:info@pflagfranklintn.org
END:VEVENT
END:VCALENDAR