BEGIN:VCALENDAR
VERSION:2.0
PRODID:-//Williamson, Inc. - ECPv6.15.18//NONSGML v1.0//EN
CALSCALE:GREGORIAN
METHOD:PUBLISH
X-ORIGINAL-URL:https://williamsonchamber.com
X-WR-CALDESC:Events for Williamson, Inc.
REFRESH-INTERVAL;VALUE=DURATION:PT1H
X-Robots-Tag:noindex
X-PUBLISHED-TTL:PT1H
BEGIN:VTIMEZONE
TZID:America/Chicago
BEGIN:DAYLIGHT
TZOFFSETFROM:-0600
TZOFFSETTO:-0500
TZNAME:CDT
DTSTART:20250309T080000
END:DAYLIGHT
BEGIN:STANDARD
TZOFFSETFROM:-0500
TZOFFSETTO:-0600
TZNAME:CST
DTSTART:20251102T070000
END:STANDARD
BEGIN:DAYLIGHT
TZOFFSETFROM:-0600
TZOFFSETTO:-0500
TZNAME:CDT
DTSTART:20260308T080000
END:DAYLIGHT
BEGIN:STANDARD
TZOFFSETFROM:-0500
TZOFFSETTO:-0600
TZNAME:CST
DTSTART:20261101T070000
END:STANDARD
BEGIN:DAYLIGHT
TZOFFSETFROM:-0600
TZOFFSETTO:-0500
TZNAME:CDT
DTSTART:20270314T080000
END:DAYLIGHT
BEGIN:STANDARD
TZOFFSETFROM:-0500
TZOFFSETTO:-0600
TZNAME:CST
DTSTART:20271107T070000
END:STANDARD
END:VTIMEZONE
BEGIN:VEVENT
DTSTART;TZID=America/Chicago:20260517T190000
DTEND;TZID=America/Chicago:20260517T203000
DTSTAMP:20260423T091302
CREATED:20260225T151527Z
LAST-MODIFIED:20260225T151527Z
UID:10003584-1779044400-1779049800@williamsonchamber.com
SUMMARY:LOVER: The Unofficial Taylor Swift Eras Tour Tribute
DESCRIPTION:Experience the magic of Taylor Swift’s record-breaking Eras Tour live on stage. Fronted by powerhouse vocalist Charity Eden\, Lover recreates every era\, costume\, iconic moment\, and fan-favorite hit with stunning attention to detail and infectious energy. From chart-topping anthems to glittering pop spectacle\, this immersive tribute delivers the full Eras experience for fans who could not get tickets or those ready to relive the magic. Grab your tour outfits and get ready to make the whole place shimmer. \nFriday\, May 15 – 7:00 p.m. \nRun Time: 90 Minutes
URL:https://williamsonchamber.com/member-event/lover-the-unofficial-taylor-swift-eras-tour-tribute/
LOCATION:Wiliamson County Performing Arts Center\, 112 Everbright Avenue\, Franklin\, TN\, 37064
ATTACH;FMTTYPE=image/png:https://williamsonchamber.com/wp-content/uploads/2026/02/Lover-taylor-swift-show.png
END:VEVENT
BEGIN:VEVENT
DTSTART;TZID=America/Chicago:20260529T190000
DTEND;TZID=America/Chicago:20260529T203000
DTSTAMP:20260423T091302
CREATED:20260225T151546Z
LAST-MODIFIED:20260225T151546Z
UID:10003585-1780081200-1780086600@williamsonchamber.com
SUMMARY:Power Of Love: A Tribute to Huey Lewis and The News
DESCRIPTION:Power of Love: A Tribute to Huey Lewis & The News delivers the heart of rock & roll with a high-energy performance packed with nostalgia\, powerhouse musicianship\, and nonstop fun. Led by dynamic front man Tommy C—who has shared the stage with legends like Chubby Checker and Chuck Berry—the band brings iconic hits like “The Power of Love\,” “Hip To Be Square\,” and “Do You Believe in Love” to life with infectious energy. Whether you’re dancing in the aisles or singing along from your seat\, this crowd-pleasing tribute promises a night of timeless tunes and unforgettable memories. \nFriday\, May 29 – 7:00 p.m. \nRun Time: 90 Minutes
URL:https://williamsonchamber.com/member-event/power-of-love-a-tribute-to-huey-lewis-and-the-news/
LOCATION:Wiliamson County Performing Arts Center\, 112 Everbright Avenue\, Franklin\, TN\, 37064
ATTACH;FMTTYPE=image/png:https://williamsonchamber.com/wp-content/uploads/2026/02/power-of-love-huey-lewis-tribute-concert.png
END:VEVENT
END:VCALENDAR