BEGIN:VCALENDAR
VERSION:2.0
PRODID:-//Williamson, Inc. - ECPv6.15.18//NONSGML v1.0//EN
CALSCALE:GREGORIAN
METHOD:PUBLISH
X-ORIGINAL-URL:https://williamsonchamber.com
X-WR-CALDESC:Events for Williamson, Inc.
REFRESH-INTERVAL;VALUE=DURATION:PT1H
X-Robots-Tag:noindex
X-PUBLISHED-TTL:PT1H
BEGIN:VTIMEZONE
TZID:America/Chicago
BEGIN:DAYLIGHT
TZOFFSETFROM:-0600
TZOFFSETTO:-0500
TZNAME:CDT
DTSTART:20220313T080000
END:DAYLIGHT
BEGIN:STANDARD
TZOFFSETFROM:-0500
TZOFFSETTO:-0600
TZNAME:CST
DTSTART:20221106T070000
END:STANDARD
BEGIN:DAYLIGHT
TZOFFSETFROM:-0600
TZOFFSETTO:-0500
TZNAME:CDT
DTSTART:20230312T080000
END:DAYLIGHT
BEGIN:STANDARD
TZOFFSETFROM:-0500
TZOFFSETTO:-0600
TZNAME:CST
DTSTART:20231105T070000
END:STANDARD
BEGIN:DAYLIGHT
TZOFFSETFROM:-0600
TZOFFSETTO:-0500
TZNAME:CDT
DTSTART:20240310T080000
END:DAYLIGHT
BEGIN:STANDARD
TZOFFSETFROM:-0500
TZOFFSETTO:-0600
TZNAME:CST
DTSTART:20241103T070000
END:STANDARD
END:VTIMEZONE
BEGIN:VEVENT
DTSTART;TZID=America/Chicago:20230819T190000
DTEND;TZID=America/Chicago:20230819T210000
DTSTAMP:20260425T212634
CREATED:20230711T004556Z
LAST-MODIFIED:20230711T004556Z
UID:10000309-1692471600-1692478800@williamsonchamber.com
SUMMARY:Ultimate Oldies '50s\, '60s & '70s Rock & Roll Show
DESCRIPTION:The Ultimate Oldies Rock & Roll Show is a fun\, high-energy stage show that will have you singing and dancing in your seat – or in the aisles – the entire time! We perform as many of your favorite rock & roll hits from the 50s\, 60s\, & 70s that we can possibly pack into a 90-minute show! Where else can you hear Jerry Lee Lewis\, Lynyrd Skynyrd\, Tina Turner\, Elvis\, Jefferson Airplane\, Little Richard\, Bob Seger\, The Carpenters\, and more in one show?! We have something for everyone\, and this blast from the past is sure to take you back in time!
URL:https://williamsonchamber.com/member-event/ultimate-oldies-50s-60s-70s-rock-roll-show/
LOCATION:Wiliamson County Performing Arts Center\, 112 Everbright Avenue\, Franklin\, TN\, 37064
ATTACH;FMTTYPE=image/png:https://williamsonchamber.com/wp-content/uploads/2023/07/ultimate-oldies.png
END:VEVENT
BEGIN:VEVENT
DTSTART;TZID=America/Chicago:20230611T140000
DTEND;TZID=America/Chicago:20230611T160000
DTSTAMP:20260425T212634
CREATED:20230515T173003Z
LAST-MODIFIED:20230515T173003Z
UID:10000261-1686492000-1686499200@williamsonchamber.com
SUMMARY:Star Bright Players present School of Rock (Lloyd Webber)
DESCRIPTION:Presented by Image Surgical Arts\, the Star Bright Players Spring 2023 production will be Andrew Lloyd Webber’s School of Rock – The Musical and we are so excited to collaborate with the Franklin Brentwood Arts Academy (our student band sponsor/instruction) to bring this fabulous musical to life! Rock got no reason\, rock got no rhyme…You better get me to school on time! Andrew Lloyd Webber’s School of Rock – The Musical is a two-hour\, two-act show (plus intermission)\, based on the hit movie. The tuner follows Dewey Finn\, a failed\, wannabe rock star who decides to earn an extra bit of cash by posing as a substitute teacher at a prestigious prep school. There he turns a class of straight–A pupils into a guitar-shredding\, bass-slapping\, mind-blowing rock band. But can he get them to the Battle of the Bands without their parents and the school’s headmistress finding out? (Based on movie rated PG-13.) Blandina Vergara-Cruz is
URL:https://williamsonchamber.com/member-event/star-bright-players-present-school-rock-lloyd-webber/2023-06-11/
LOCATION:Wiliamson County Performing Arts Center\, 112 Everbright Avenue\, Franklin\, TN\, 37064
ATTACH;FMTTYPE=image/png:https://williamsonchamber.com/wp-content/uploads/2023/05/school-of-rock.png
END:VEVENT
BEGIN:VEVENT
DTSTART;TZID=America/Chicago:20230610T140000
DTEND;TZID=America/Chicago:20230610T160000
DTSTAMP:20260425T212634
CREATED:20230515T173003Z
LAST-MODIFIED:20230515T173003Z
UID:10000260-1686405600-1686412800@williamsonchamber.com
SUMMARY:Star Bright Players present School of Rock (Lloyd Webber)
DESCRIPTION:Presented by Image Surgical Arts\, the Star Bright Players Spring 2023 production will be Andrew Lloyd Webber’s School of Rock – The Musical and we are so excited to collaborate with the Franklin Brentwood Arts Academy (our student band sponsor/instruction) to bring this fabulous musical to life! Rock got no reason\, rock got no rhyme…You better get me to school on time! Andrew Lloyd Webber’s School of Rock – The Musical is a two-hour\, two-act show (plus intermission)\, based on the hit movie. The tuner follows Dewey Finn\, a failed\, wannabe rock star who decides to earn an extra bit of cash by posing as a substitute teacher at a prestigious prep school. There he turns a class of straight–A pupils into a guitar-shredding\, bass-slapping\, mind-blowing rock band. But can he get them to the Battle of the Bands without their parents and the school’s headmistress finding out? (Based on movie rated PG-13.) Blandina Vergara-Cruz is
URL:https://williamsonchamber.com/member-event/star-bright-players-present-school-rock-lloyd-webber/2023-06-10/
LOCATION:Wiliamson County Performing Arts Center\, 112 Everbright Avenue\, Franklin\, TN\, 37064
ATTACH;FMTTYPE=image/png:https://williamsonchamber.com/wp-content/uploads/2023/05/school-of-rock.png
END:VEVENT
BEGIN:VEVENT
DTSTART;TZID=America/Chicago:20230609T190000
DTEND;TZID=America/Chicago:20230609T210000
DTSTAMP:20260425T212634
CREATED:20230515T173003Z
LAST-MODIFIED:20230515T173003Z
UID:10000259-1686337200-1686344400@williamsonchamber.com
SUMMARY:Star Bright Players present School of Rock (Lloyd Webber)
DESCRIPTION:Presented by Image Surgical Arts\, the Star Bright Players Spring 2023 production will be Andrew Lloyd Webber’s School of Rock – The Musical and we are so excited to collaborate with the Franklin Brentwood Arts Academy (our student band sponsor/instruction) to bring this fabulous musical to life! Rock got no reason\, rock got no rhyme…You better get me to school on time! Andrew Lloyd Webber’s School of Rock – The Musical is a two-hour\, two-act show (plus intermission)\, based on the hit movie. The tuner follows Dewey Finn\, a failed\, wannabe rock star who decides to earn an extra bit of cash by posing as a substitute teacher at a prestigious prep school. There he turns a class of straight–A pupils into a guitar-shredding\, bass-slapping\, mind-blowing rock band. But can he get them to the Battle of the Bands without their parents and the school’s headmistress finding out? (Based on movie rated PG-13.) Blandina Vergara-Cruz is
URL:https://williamsonchamber.com/member-event/star-bright-players-present-school-rock-lloyd-webber/2023-06-09/
LOCATION:Wiliamson County Performing Arts Center\, 112 Everbright Avenue\, Franklin\, TN\, 37064
ATTACH;FMTTYPE=image/png:https://williamsonchamber.com/wp-content/uploads/2023/05/school-of-rock.png
END:VEVENT
BEGIN:VEVENT
DTSTART;TZID=America/Chicago:20230608T190000
DTEND;TZID=America/Chicago:20230608T210000
DTSTAMP:20260425T212634
CREATED:20230515T173003Z
LAST-MODIFIED:20230515T173003Z
UID:10000258-1686250800-1686258000@williamsonchamber.com
SUMMARY:Star Bright Players present School of Rock (Lloyd Webber)
DESCRIPTION:Presented by Image Surgical Arts\, the Star Bright Players Spring 2023 production will be Andrew Lloyd Webber’s School of Rock – The Musical and we are so excited to collaborate with the Franklin Brentwood Arts Academy (our student band sponsor/instruction) to bring this fabulous musical to life! Rock got no reason\, rock got no rhyme…You better get me to school on time! Andrew Lloyd Webber’s School of Rock – The Musical is a two-hour\, two-act show (plus intermission)\, based on the hit movie. The tuner follows Dewey Finn\, a failed\, wannabe rock star who decides to earn an extra bit of cash by posing as a substitute teacher at a prestigious prep school. There he turns a class of straight–A pupils into a guitar-shredding\, bass-slapping\, mind-blowing rock band. But can he get them to the Battle of the Bands without their parents and the school’s headmistress finding out? (Based on movie rated PG-13.) Blandina Vergara-Cruz is
URL:https://williamsonchamber.com/member-event/star-bright-players-present-school-rock-lloyd-webber/2023-06-08/
LOCATION:Wiliamson County Performing Arts Center\, 112 Everbright Avenue\, Franklin\, TN\, 37064
ATTACH;FMTTYPE=image/png:https://williamsonchamber.com/wp-content/uploads/2023/05/school-of-rock.png
END:VEVENT
END:VCALENDAR